BEGIN_USGS_DOQ_HEADER *
QUADRANGLE_NAME "TEHACHAPI SOUTH" *
QUADRANT NE *
NORTH_LATITUDE 35 07 30.000 *
WEST_LONGITUDE -118 26 15.000 *
SOUTH_LATITUDE 35 03 45.000 *
EAST_LONGITUDE -118 22 30.000 *
PRODUCTION_DATE 1998 04 28 *
RASTER_ORDER LEFT_RIGHT/TOP_BOTTOM *
BAND_ORGANIZATION "SINGLE FILE" *
BAND_CONTENT BLACK&WHITE *
BITS_PER_PIXEL 8 *
SAMPLES_AND_LINES 6510 7650 *
HORIZONTAL_DATUM NAD83 *
HORIZONTAL_COORDINATE_SYSTEM UTM *
COORDINATE_ZONE 11 *
HORIZONTAL_UNITS METERS *
HORIZONTAL_RESOLUTION 1.000 *
SECONDARY_HORIZONTAL_DATUM NAD27 *
XY_ORIGIN 368520.000 3888180.000 *
SECONDARY_XY_ORIGIN 368600.660 3887984.657 *
NATION US *
STATE CA *
NW_QUAD_CORNER_XY 369020.857 3887850.712 *
NE_QUAD_CORNER_XY 374715.984 3887770.272 *
SE_QUAD_CORNER_XY 374620.327 3880838.470 *
SW_QUAD_CORNER_XY 368920.850 3880918.847 *
SECONDARY_NW_QUAD_XY 369017.818 3887652.795 *
SECONDARY_NE_QUAD_XY 374713.076 3887572.353 *
SECONDARY_SE_QUAD_XY 374617.422 3880640.738 *
SECONDARY_SW_QUAD_XY 368917.813 3880721.117 *
RMSE_XY 1.619 *
IMAGE_SOURCE "BLACK AND WHITE FILM" *
SOURCE_IMAGE_ID "NAPP 6876 189" *
SOURCE_IMAGE_DATE 1995 10 04 *
SOURCE_DEM_DATE 1998 01 01 *
AGENCY "WESTERN MAPPING CENTER (WMC)" *
PRODUCER "ANALYTICAL SURVEYS INC." *
PRODUCTION_SYSTEM "ORBIT OR_RECTIFY V.5.2" *
STANDARD_VERSION 1996 12 *
METADATA_DATE 1998 04 28 *
DATA_FILE_SIZE 49808010 *
BYTE_COUNT 6510 * * * * * * * * * * * * * * * * * * * * * * * * * * * * * * * * * * * * * * *
END_USGS_HEADER *
