BEGIN_USGS_DOQ_HEADER *
QUADRANGLE_NAME "TEJON RANCH" *
QUADRANT NE *
NORTH_LATITUDE 35 07 30.000 *
WEST_LONGITUDE -118 41 15.000 *
SOUTH_LATITUDE 35 03 45.000 *
EAST_LONGITUDE -118 37 30.000 *
PRODUCTION_DATE 1998 09 22 *
RASTER_ORDER LEFT_RIGHT/TOP_BOTTOM *
BAND_ORGANIZATION "SINGLE FILE" *
BAND_CONTENT BLACK&WHITE *
BITS_PER_PIXEL 8 *
SAMPLES_AND_LINES 6540 7650 *
HORIZONTAL_DATUM NAD83 *
HORIZONTAL_COORDINATE_SYSTEM UTM *
COORDINATE_ZONE 11 *
HORIZONTAL_UNITS METERS *
HORIZONTAL_RESOLUTION 1.000 *
SECONDARY_HORIZONTAL_DATUM NAD27 *
XY_ORIGIN 345720.000 3888510.000 *
SECONDARY_XY_ORIGIN 345800.901 3888314.551 *
NATION US *
STATE CA *
NW_QUAD_CORNER_XY 346239.798 3888208.250 *
NE_QUAD_CORNER_XY 351935.150 3888113.499 *
SE_QUAD_CORNER_XY 351822.089 3881181.426 *
SW_QUAD_CORNER_XY 346122.384 3881276.103 *
SECONDARY_NW_QUAD_XY 346236.229 3888010.342 *
SECONDARY_NE_QUAD_XY 351931.714 3887915.588 *
SECONDARY_SE_QUAD_XY 351818.655 3880983.702 *
SECONDARY_SW_QUAD_XY 346118.818 3881078.381 *
RMSE_XY 1.493 *
IMAGE_SOURCE "BLACK AND WHITE FILM" *
SOURCE_IMAGE_ID "NAPP 6867 31" *
SOURCE_IMAGE_DATE 1994 06 02 *
SOURCE_DEM_DATE 1998 01 01 *
AGENCY "WESTERN MAPPING CENTER (WMC)" *
PRODUCER "ANALYTICAL SURVEYS INC." *
PRODUCTION_SYSTEM "ORBIT OR_RECTIFY V.5.2" *
STANDARD_VERSION 1996 12 *
METADATA_DATE 1998 09 23 *
DATA_FILE_SIZE 50037540 *
BYTE_COUNT 6540 * * * * * * * * * * * * * * * * * * * * * * * * * * * * * * * * * * * * * * *
END_USGS_HEADER *
