BEGIN_USGS_DOQ_HEADER *
QUADRANGLE_NAME "WEED PATCH" 3.45 or 7.5-min. name*
QUADRANT NW quadrant indicator if cell size = 3.75-minutes*
WEST_LONGITUDE -119 0 0.000 signed deg min sec SDDD MM SS.SSS*
EAST_LONGITUDE -118 56 15.000 signed deg min sec SDDD MM SS.SSS*
NORTH_LATITUDE 35 15 0.000 signed deg min sec SDDD MM SS.SSS*
SOUTH_LATITUDE 35 11 15.000 signed deg min sec SDDD MM SS.SSS*
PRODUCTION_DATE 1994 6 6 yyyy mm dd*
RASTER_ORDER LEFT_RIGHT/TOP_BOTTOM video display order*
BAND_ORGANIZATION "SINGLE FILE" single file or BSQ, or BIL or BIP*
BAND_CONTENT BLACK&WHITE black&white or red green blue*
BITS_PER_PIXEL 8 radiometric resolution*
SAMPLES_AND_LINES 6520 7659 number of columns and rows*
HORIZONTAL_DATUM NAD83 primary horizontal datum*
HORIZONTAL_COORDINATE_SYSTEM UTM *
COORDINATE_ZONE 11 coordinate system zone number*
HORIZONTAL_UNITS METERS coordinate system units*
HORIZONTAL_RESOLUTION 1.00 pixel horiz. ground sample distance*
SECONDARY_HORIZONTAL_DATUM NAD27 secondary horizontal datum*
XY_ORIGIN 317511.000 3902906.000 coord. of upper left pixel pri. datum*
SECONDARY_XY_ORIGIN 317592.003 3902710.271 coord upper left pixel sec datum*
NATION US nation code*
STATE CA state fip code*
NW_QUAD_CORNER_XY 318041.069 3902601.013 XY coords. of pri. NW quad corner*
NE_QUAD_CORNER_XY 323728.027 3902488.188 XY coords. of pri. NE quad corner*
SE_QUAD_CORNER_XY 323592.779 3895555.586 XY coords. of pri. SE quad corner*
SW_QUAD_CORNER_XY 317901.453 3895668.324 XY coords. of pri. SW quad corner*
SECONDARY_NW_QUAD_XY 318036.832 3902402.744 XY coords. - sec. NW quad cor.*
SECONDARY_NE_QUAD_XY 323723.922 3902289.917 XY coords. - sec. NE quad cor.*
SECONDARY_SE_QUAD_XY 323588.678 3895357.501 XY coords. - sec. SE quad cor.*
SECONDARY_SW_QUAD_XY 317897.219 3895470.241 XY coords. - sec. SW quad cor.*
RMSE_XY 0.80 doq horiz. accuracy*
IMAGE_SOURCE "BLACK AND WHITE FILM" b&w, cir, natural color, other*
SOURCE_IMAGE_ID "VFNH 1 49" source image id*
SOURCE_IMAGE_DATE 1992 9 16 source image date as yyyy mm dd*
SOURCE_DEM_DATE 1994 6 6 source dem date yyyy mm dd*
AGENCY "WESTERN MAPPING CENTER (WMC)" oversight agency*
PRODUCER "WMC" producer/contractor*
PRODUCTION_SYSTEM "DV2.0 2/94 OV2.0 2/94" production system*
STANDARD_VERSION 1996 12 version of DOQ standard*
METADATA_DATE 1997 6 18 date created or changed, yyyy mm dd*
DATA_FILE_SIZE 49943200 data set size in bytes*
BYTE_COUNT 6520 header byte count* * * * * * * * * * * * * * * * * * * * * * * * * * * * * * * * * * * * * * *
END_USGS_HEADER *
