BEGIN_USGS_DOQ_HEADER *
QUADRANGLE_NAME "OILER PEAK" *
QUADRANT SW *
NORTH_LATITUDE 35 18 45.000 *
WEST_LONGITUDE -118 37 30.000 *
SOUTH_LATITUDE 35 15 00.000 *
EAST_LONGITUDE -118 33 45.000 *
PRODUCTION_DATE 1998 09 23 *
RASTER_ORDER LEFT_RIGHT/TOP_BOTTOM *
BAND_ORGANIZATION "SINGLE FILE" *
BAND_CONTENT BLACK&WHITE *
BITS_PER_PIXEL 8 *
SAMPLES_AND_LINES 6510 7680 *
HORIZONTAL_DATUM NAD83 *
HORIZONTAL_COORDINATE_SYSTEM UTM *
COORDINATE_ZONE 11 *
HORIZONTAL_UNITS METERS *
HORIZONTAL_RESOLUTION 1.000 *
SECONDARY_HORIZONTAL_DATUM NAD27 *
XY_ORIGIN 351750.000 3909240.000 *
SECONDARY_XY_ORIGIN 351830.637 3909044.650 *
NATION US *
STATE CA *
NW_QUAD_CORNER_XY 352275.394 3908910.112 *
NE_QUAD_CORNER_XY 357957.591 3908818.726 *
SE_QUAD_CORNER_XY 357848.372 3901886.526 *
SW_QUAD_CORNER_XY 352161.803 3901977.842 *
SECONDARY_NW_QUAD_XY 352271.949 3908711.645 *
SECONDARY_NE_QUAD_XY 357954.278 3908620.256 *
SECONDARY_SE_QUAD_XY 357845.062 3901688.241 *
SECONDARY_SW_QUAD_XY 352158.361 3901779.559 *
RMSE_XY 2.790 *
IMAGE_SOURCE "BLACK AND WHITE FILM" *
SOURCE_IMAGE_ID "NAPP 6879 10" *
SOURCE_IMAGE_DATE 1995 10 05 *
SOURCE_DEM_DATE 1998 01 01 *
AGENCY "WESTERN MAPPING CENTER (WMC)" *
PRODUCER "ANALYTICAL SURVEYS INC." *
PRODUCTION_SYSTEM "ORBIT OR_RECTIFY V.5.2" *
STANDARD_VERSION 1996 12 *
METADATA_DATE 1998 09 25 *
DATA_FILE_SIZE 50003310 *
BYTE_COUNT 6510 * * * * * * * * * * * * * * * * * * * * * * * * * * * * * * * * * * * * * * *
END_USGS_HEADER *
