BEGIN_USGS_DOQ_HEADER *
QUADRANGLE_NAME "BENA" *
QUADRANT SW *
NORTH_LATITUDE 35 18 45.000 *
WEST_LONGITUDE -118 45 00.000 *
SOUTH_LATITUDE 35 15 00.000 *
EAST_LONGITUDE -118 41 15.000 *
PRODUCTION_DATE 1998 09 23 *
RASTER_ORDER LEFT_RIGHT/TOP_BOTTOM *
BAND_ORGANIZATION "SINGLE FILE" *
BAND_CONTENT BLACK&WHITE *
BITS_PER_PIXEL 8 *
SAMPLES_AND_LINES 6540 7680 *
HORIZONTAL_DATUM NAD83 *
HORIZONTAL_COORDINATE_SYSTEM UTM *
COORDINATE_ZONE 11 *
HORIZONTAL_UNITS METERS *
HORIZONTAL_RESOLUTION 1.000 *
SECONDARY_HORIZONTAL_DATUM NAD27 *
XY_ORIGIN 340380.000 3909420.000 *
SECONDARY_XY_ORIGIN 340460.697 3909224.516 *
NATION US *
STATE CA *
NW_QUAD_CORNER_XY 340910.823 3909103.645 *
NE_QUAD_CORNER_XY 346593.139 3909005.085 *
SE_QUAD_CORNER_XY 346475.176 3902072.742 *
SW_QUAD_CORNER_XY 340788.486 3902171.226 *
SECONDARY_NW_QUAD_XY 340907.113 3908905.183 *
SECONDARY_NE_QUAD_XY 346589.561 3908806.620 *
SECONDARY_SE_QUAD_XY 346471.601 3901874.461 *
SECONDARY_SW_QUAD_XY 340784.779 3901972.947 *
RMSE_XY 2.467 *
IMAGE_SOURCE "BLACK AND WHITE FILM" *
SOURCE_IMAGE_ID "NAPP 6876 62" *
SOURCE_IMAGE_DATE 1995 10 04 *
SOURCE_DEM_DATE 1998 01 01 *
AGENCY "WESTERN MAPPING CENTER (WMC)" *
PRODUCER "ANALYTICAL SURVEYS INC." *
PRODUCTION_SYSTEM "ORBIT OR_RECTIFY V.5.2" *
STANDARD_VERSION 1996 12 *
METADATA_DATE 1998 09 25 *
DATA_FILE_SIZE 50233740 *
BYTE_COUNT 6540 * * * * * * * * * * * * * * * * * * * * * * * * * * * * * * * * * * * * * * *
END_USGS_HEADER *
