BEGIN_USGS_DOQ_HEADER *
QUADRANGLE_NAME "CLARAVILLE" 3.45 or 7.5-min. name*
QUADRANT NW quadrant indicator if cell size = 3.75-minutes*
WEST_LONGITUDE -118 22 30.000 signed deg min sec SDDD MM SS.SSS*
EAST_LONGITUDE -118 18 45.000 signed deg min sec SDDD MM SS.SSS*
NORTH_LATITUDE 35 30 0.000 signed deg min sec SDDD MM SS.SSS*
SOUTH_LATITUDE 35 26 15.000 signed deg min sec SDDD MM SS.SSS*
PRODUCTION_DATE 1998 6 8 yyyy mm dd*
RASTER_ORDER LEFT_RIGHT/TOP_BOTTOM video display order*
BAND_ORGANIZATION "SINGLE FILE" single file or BSQ, or BIL or BIP*
BAND_CONTENT BLACK&WHITE black&white or red green blue*
BITS_PER_PIXEL 8 radiometric resolution*
SAMPLES_AND_LINES 6451 7616 number of columns and rows*
HORIZONTAL_DATUM NAD83 primary horizontal datum*
HORIZONTAL_COORDINATE_SYSTEM UTM *
COORDINATE_ZONE 11 coordinate system zone number*
HORIZONTAL_UNITS METERS coordinate system units*
HORIZONTAL_RESOLUTION 1.00 pixel horiz. ground sample distance*
SECONDARY_HORIZONTAL_DATUM NAD27 secondary horizontal datum*
XY_ORIGIN 374812.000 3929663.000 coord. of upper left pixel pri. datum*
SECONDARY_XY_ORIGIN 374892.127 3929467.727 coord upper left pixel sec datum*
NATION US nation code*
STATE CA state fip code*
NW_QUAD_CORNER_XY 375293.056 3929362.504 XY coords. of pri. NW quad corner*
NE_QUAD_CORNER_XY 380961.887 3929285.285 XY coords. of pri. NE quad corner*
SE_QUAD_CORNER_XY 380869.727 3922353.136 XY coords. of pri. SE quad corner*
SW_QUAD_CORNER_XY 375196.505 3922430.296 XY coords. of pri. SW quad corner*
SECONDARY_NW_QUAD_XY 375290.133 3929163.480 XY coords. - sec. NW quad cor.*
SECONDARY_NE_QUAD_XY 380959.097 3929086.259 XY coords. - sec. NE quad cor.*
SECONDARY_SE_QUAD_XY 380866.939 3922154.292 XY coords. - sec. SE quad cor.*
SECONDARY_SW_QUAD_XY 375193.585 3922231.454 XY coords. - sec. SW quad cor.*
RMSE_XY 3.40 doq horiz. accuracy*
IMAGE_SOURCE "BLACK AND WHITE FILM" b&w, cir, natural color, other*
SOURCE_IMAGE_ID "NAPP 6876 212" source image id*
SOURCE_IMAGE_DATE 1995 10 04 source image date as yyyy mm dd*
IMAGE_SOURCE "BLACK AND WHITE FILM" b&w, cir, natural color, other*
SOURCE_IMAGE_ID "NAPP 6876 200" source image id*
SOURCE_IMAGE_DATE 1995 10 04 source image date as yyyy mm dd*
IMAGE_SOURCE "BLACK AND WHITE FILM" b&w, cir, natural color, other*
SOURCE_IMAGE_ID "NAPP 6876 202" source image id*
SOURCE_IMAGE_DATE 1995 10 04 source image date as yyyy mm dd*
IMAGE_SOURCE "BLACK AND WHITE FILM" b&w, cir, natural color, other*
SOURCE_IMAGE_ID "NAPP 6876 213" source image id*
SOURCE_IMAGE_DATE 1995 10 04 source image date as yyyy mm dd*
IMAGE_SOURCE "BLACK AND WHITE FILM" b&w, cir, natural color, other*
SOURCE_IMAGE_ID "NAPP 6876 211" source image id*
SOURCE_IMAGE_DATE 1995 10 04 source image date as yyyy mm dd*
SOURCE_DEM_DATE 1997 01 01 source dem date yyyy mm dd*
AGENCY "WESTERN MAPPING CENTER (WMC)" oversight agency*
PRODUCER "SCIENCE APPLICATIONS INTERNATIONAL" producer/contractor*
PRODUCTION_SYSTEM "GIS/MAGIC" production system*
STANDARD_VERSION 1996 12 version of DOQ standard*
METADATA_DATE 1998 06 25 date created or changed, yyyy mm dd*
DATA_FILE_SIZE 49137267 data set size in bytes*
BYTE_COUNT 6451 header byte count* * * * * * * * * * * * * * * * * * * * * * * * * *
END_USGS_HEADER *
