BEGIN_USGS_DOQ_HEADER *
QUADRANGLE_NAME "OIL CENTER" 3.45 or 7.5-min. name*
QUADRANT NE quadrant indicator if cell size = 3.75-minutes*
WEST_LONGITUDE -118 56 15.000 signed deg min sec SDDD MM SS.SSS*
EAST_LONGITUDE -118 52 30.000 signed deg min sec SDDD MM SS.SSS*
NORTH_LATITUDE 35 30 0.000 signed deg min sec SDDD MM SS.SSS*
SOUTH_LATITUDE 35 26 15.000 signed deg min sec SDDD MM SS.SSS*
PRODUCTION_DATE 1994 6 2 yyyy mm dd*
RASTER_ORDER LEFT_RIGHT/TOP_BOTTOM video display order*
BAND_ORGANIZATION "SINGLE FILE" single file or BSQ, or BIL or BIP*
BAND_CONTENT BLACK&WHITE black&white or red green blue*
BITS_PER_PIXEL 8 radiometric resolution*
SAMPLES_AND_LINES 6500 7656 number of columns and rows*
HORIZONTAL_DATUM NAD83 primary horizontal datum*
HORIZONTAL_COORDINATE_SYSTEM UTM *
COORDINATE_ZONE 11 coordinate system zone number*
HORIZONTAL_UNITS METERS coordinate system units*
HORIZONTAL_RESOLUTION 1.00 pixel horiz. ground sample distance*
SECONDARY_HORIZONTAL_DATUM NAD27 secondary horizontal datum*
XY_ORIGIN 323746.000 3930524.000 coord. of upper left pixel pri. datum*
SECONDARY_XY_ORIGIN 323826.342 3930328.253 coord upper left pixel sec datum*
NATION US nation code*
STATE CA state fip code*
NW_QUAD_CORNER_XY 324271.121 3930219.228 XY coords. of pri. NW quad corner*
NE_QUAD_CORNER_XY 329940.470 3930109.655 XY coords. of pri. NE quad corner*
SE_QUAD_CORNER_XY 329808.776 3923176.882 XY coords. of pri. SE quad corner*
SW_QUAD_CORNER_XY 324135.033 3923286.373 XY coords. of pri. SW quad corner*
SECONDARY_NW_QUAD_XY 324267.002 3930020.224 XY coords. - sec. NW quad cor.*
SECONDARY_NE_QUAD_XY 329936.484 3929910.648 XY coords. - sec. NE quad cor.*
SECONDARY_SE_QUAD_XY 329804.794 3922978.057 XY coords. - sec. SE quad cor.*
SECONDARY_SW_QUAD_XY 324130.917 3923087.550 XY coords. - sec. SW quad cor.*
RMSE_XY 1.60 doq horiz. accuracy*
IMAGE_SOURCE "BLACK AND WHITE FILM" b&w, cir, natural color, other*
SOURCE_IMAGE_ID "VFNH 1 74" source image id*
SOURCE_IMAGE_DATE 1992 9 16 source image date as yyyy mm dd*
SOURCE_DEM_DATE 1994 6 2 source dem date yyyy mm dd*
AGENCY "WESTERN MAPPING CENTER (WMC)" oversight agency*
PRODUCER "WMC" producer/contractor*
PRODUCTION_SYSTEM "DV2.0 2/94 OV2.0 2/94" production system*
STANDARD_VERSION 1996 12 version of DOQ standard*
METADATA_DATE 1997 6 18 date created or changed, yyyy mm dd*
DATA_FILE_SIZE 49770500 data set size in bytes*
BYTE_COUNT 6500 header byte count* * * * * * * * * * * * * * * * * * * * * * * * * * * * * * * * * * * * * * *
END_USGS_HEADER *
