BEGIN_USGS_DOQ_HEADER *
QUADRANGLE_NAME "FOUNTAIN SPRINGS" *
QUADRANT SW *
NORTH_LATITUDE 35 56 15.000 *
WEST_LONGITUDE -119 00 00.000 *
SOUTH_LATITUDE 35 52 30.000 *
EAST_LONGITUDE -118 56 15.000 *
PRODUCTION_DATE 1998 11 30 *
RASTER_ORDER LEFT_RIGHT/TOP_BOTTOM *
BAND_ORGANIZATION "SINGLE FILE" *
BAND_CONTENT BLACK&WHITE *
BITS_PER_PIXEL 8 *
SAMPLES_AND_LINES 6480 7680 *
HORIZONTAL_DATUM NAD83 *
HORIZONTAL_COORDINATE_SYSTEM UTM *
COORDINATE_ZONE 11 *
HORIZONTAL_UNITS METERS *
HORIZONTAL_RESOLUTION 1.000 *
SECONDARY_HORIZONTAL_DATUM NAD27 *
XY_ORIGIN 319050.000 3979170.000 *
SECONDARY_XY_ORIGIN 319130.061 3978973.245 *
NATION US *
STATE CA *
NW_QUAD_CORNER_XY 319591.133 3978864.760 *
NE_QUAD_CORNER_XY 325229.595 3978751.006 *
SE_QUAD_CORNER_XY 325092.044 3971817.703 *
SW_QUAD_CORNER_XY 319449.139 3971931.375 *
SECONDARY_NW_QUAD_XY 319586.855 3978664.505 *
SECONDARY_NE_QUAD_XY 325225.451 3978550.748 *
SECONDARY_SE_QUAD_XY 325087.903 3971617.622 *
SECONDARY_SW_QUAD_XY 319444.865 3971731.297 *
RMSE_XY 1.681 *
IMAGE_SOURCE "BLACK AND WHITE FILM" *
SOURCE_IMAGE_ID "NAPP 6856 34" *
SOURCE_IMAGE_DATE 1994 05 29 *
SOURCE_DEM_DATE 1963 00 00 *
AGENCY "WESTERN MAPPING CENTER (WMC)" *
PRODUCER "ANALYTICAL SURVEYS INC." *
PRODUCTION_SYSTEM "ORBIT OR_RECTIFY V.5.2" *
STANDARD_VERSION 1996 12 *
METADATA_DATE 1998 12 03 *
DATA_FILE_SIZE 49772880 *
BYTE_COUNT 6480 * * * * * * * * * * * * * * * * * * * * * * * * * * * * * * * * * * * * * *
END_USGS_HEADER *
