BEGIN_USGS_DOQ_HEADER *
QUADRANGLE_NAME "Big Dune" *
QUADRANT SE *
WEST_LONGITUDE -116 33 45.0 *
EAST_LONGITUDE -116 30 00.0 *
NORTH_LATITUDE 36 41 15.0 *
SOUTH_LATITUDE 36 37 30.0 *
PRODUCTION_DATE 2000 09 07 *
RASTER_ORDER LEFT_RIGHT/TOP_BOTTOM *
BAND_ORGANIZATION BIP *
BAND_CONTENT RED *
BAND_CONTENT GREEN *
BAND_CONTENT BLUE *
BITS_PER_PIXEL 8 *
SAMPLES_AND_LINES 6299 7567 *
HORIZONTAL_DATUM NAD83 *
HORIZONTAL_COORDINATE_SYSTEM UTM *
COORDINATE_ZONE 11 *
HORIZONTAL_UNITS METERS *
HORIZONTAL_RESOLUTION 1.000000 *
SECONDARY_HORIZONTAL_DATUM NAD27 *
XY_ORIGIN 538706.000000 4060623.000000 *
SECONDARY_XY_ORIGIN 538786.178907 4060427.426191 *
NATION US *
STATE NV *
NW_QUAD_CORNER_XY 539085.862874 4060295.799444 *
NE_QUAD_CORNER_XY 544669.595957 4060323.092669 *
SE_QUAD_CORNER_XY 544705.717264 4053390.089702 *
SW_QUAD_CORNER_XY 539117.468747 4053362.814416 *
SECONDARY_NW_QUAD_XY 539086.807580 4060093.445267 *
SECONDARY_NE_QUAD_XY 544670.675627 4060120.739151 *
SECONDARY_SE_QUAD_XY 544706.796064 4053187.903213 *
SECONDARY_SW_QUAD_XY 539118.412691 4053160.627269 *
RMSE_XY 1.335 *
IMAGE_SOURCE "Natural Color Film" *
SOURCE_IMAGE_ID "RSL 10974-153" *
SOURCE_IMAGE_DATE 1998 06 01 *
SOURCE_DEM_DATE 1999 09 11 *
AGENCY "Western Mapping Center (WMC)" *
PRODUCER "US Department of Energy" *
PRODUCTION_SYSTEM "Autometric Softplotter 1.8.3" *
COMPRESSION NULL *
STANDARD_VERSION 1996 12 *
METADATA_DATE 2000 07 26 *
DATA_FILE_SIZE 143012496 *
BYTE_COUNT 18897 * * * * * * * * * * * * * * * * * * * * * * * * * * * * * * * * * * * * * * * * * * * * * * * * * * * * * * * * * * * * * * * * * * * * * * * * * * * * * * * * * * * * * * * * * * * * * * * * * * * * * * * * * * * * * * * * * * * * * * * * * * * * * * * * * * * * * * * * * * * * * * * * * * * * * * * * * * * * * * * * * * * * * * * * * * * * * * * * * * * * * * * * * * * * * * *
END_USGS_HEADER *
