BEGIN_USGS_DOQ_HEADER *
QUADRANGLE_NAME "MOUNT SCHADER" *
QUADRANT SE *
WEST_LONGITUDE -116 3 45.000 *
EAST_LONGITUDE -116 0 0.000 *
NORTH_LATITUDE 36 26 15.000 *
SOUTH_LATITUDE 36 22 30.000 *
PRODUCTION_DATE 2003 2 18 *
RASTER_ORDER LEFT_RIGHT/TOP_BOTTOM *
BAND_ORGANIZATION "SINGLE FILE" *
BAND_CONTENT BLACK&WHITE *
BITS_PER_PIXEL 8 *
SAMPLES_AND_LINES 6351 7593 *
HORIZONTAL_DATUM NAD83 *
HORIZONTAL_COORDINATE_SYSTEM UTM *
COORDINATE_ZONE 11 *
HORIZONTAL_UNITS METERS *
HORIZONTAL_RESOLUTION 1.0 *
SECONDARY_HORIZONTAL_DATUM NAD27 *
XY_ORIGIN 583649.060 4033243.920 *
SECONDARY_XY_ORIGIN 583728.532 4033047.774 *
NATION US *
STATE NV *
NW_QUAD_CORNER_XY 584026.599 4032883.698 *
NE_QUAD_CORNER_XY 589628.536 4032939.960 *
SE_QUAD_CORNER_XY 589700.360 4026007.010 *
SW_QUAD_CORNER_XY 584093.932 4025950.786 *
SECONDARY_NW_QUAD_XY 584028.620 4032682.025 *
SECONDARY_NE_QUAD_XY 589630.692 4032738.288 *
SECONDARY_SE_QUAD_XY 589702.513 4025805.509 *
SECONDARY_SW_QUAD_XY 584095.952 4025749.283 *
RMSE_XY 1.00 *
IMAGE_SOURCE "BLACK AND WHITE FILM" *
SOURCE_IMAGE_ID "NAPP 11570 106" *
SOURCE_IMAGE_DATE 1999 9 6 *
SOURCE_IMAGE_ID "NAPP 11570 105" *
SOURCE_IMAGE_DATE 1999 9 6 *
SOURCE_IMAGE_ID "NAPP 11570 107" *
SOURCE_IMAGE_DATE 1999 9 6 *
SOURCE_IMAGE_ID "NAPP 11570 153" *
SOURCE_IMAGE_DATE 1999 9 6 *
SOURCE_IMAGE_ID "NAPP 11570 154" *
SOURCE_IMAGE_DATE 1999 9 6 *
SOURCE_IMAGE_ID "NAPP 11570 155" *
SOURCE_IMAGE_DATE 1999 9 6 *
SOURCE_IMAGE_ID "NAPP 11570 54" *
SOURCE_IMAGE_DATE 1999 9 6 *
SOURCE_IMAGE_ID "NAPP 11570 55" *
SOURCE_IMAGE_DATE 1999 9 6 *
SOURCE_IMAGE_ID "NAPP 11570 56" *
SOURCE_IMAGE_DATE 1999 9 6 *
SOURCE_DEM_DATE 2003 1 1 *
AGENCY "WESTERN MAPPING CENTER (WMC)" *
PRODUCER "USDA FS GEOSPATIAL SERVICE AND TECHNOLOGY CENTER" *
PRODUCTION_SYSTEM "ORBIT OR_RECTIFY V.5.2" *
STANDARD_VERSION 1996 12 *
METADATA_DATE 2003 2 18 *
DATA_FILE_SIZE 48229494 *
BYTE_COUNT 6351 * * * * * * * * * * * * * * * * * * * * *
END_USGS_HEADER *
