BEGIN_USGS_DOQ_HEADER *
QUADRANGLE_NAME "COSO PEAK" *
QUADRANT NE *
NORTH_LATITUDE 36 15 00.000 *
WEST_LONGITUDE -117 41 15.000 *
SOUTH_LATITUDE 36 11 15.000 *
EAST_LONGITUDE -117 37 30.000 *
PRODUCTION_DATE 1998 05 06 *
RASTER_ORDER LEFT_RIGHT/TOP_BOTTOM *
BAND_ORGANIZATION "SINGLE FILE" *
BAND_CONTENT BLACK&WHITE *
BITS_PER_PIXEL 8 *
SAMPLES_AND_LINES 6360 7590 *
HORIZONTAL_DATUM NAD83 *
HORIZONTAL_COORDINATE_SYSTEM UTM *
COORDINATE_ZONE 11 *
HORIZONTAL_UNITS METERS *
HORIZONTAL_RESOLUTION 1.000 *
SECONDARY_HORIZONTAL_DATUM NAD27 *
XY_ORIGIN 437790.000 4012200.000 *
SECONDARY_XY_ORIGIN 437869.877 4012004.808 *
NATION US *
STATE CA *
NW_QUAD_CORNER_XY 438232.968 4011896.818 *
NE_QUAD_CORNER_XY 443848.224 4011858.786 *
SE_QUAD_CORNER_XY 443803.539 4004926.243 *
SW_QUAD_CORNER_XY 438183.815 4004964.249 *
SECONDARY_NW_QUAD_XY 438231.492 4011695.653 *
SECONDARY_NE_QUAD_XY 443846.882 4011657.620 *
SECONDARY_SE_QUAD_XY 443802.199 4004725.250 *
SECONDARY_SW_QUAD_XY 438182.340 4004763.257 *
RMSE_XY 2.052 *
IMAGE_SOURCE "BLACK AND WHITE FILM" *
SOURCE_IMAGE_ID "NAPP 6851 85" *
SOURCE_IMAGE_DATE 1994 05 28 *
SOURCE_DEM_DATE 1982 01 01 *
AGENCY "WESTERN MAPPING CENTER (WMC)" *
PRODUCER "ANALYTICAL SURVEYS INC." *
PRODUCTION_SYSTEM "ORBIT OR_RECTIFY V.5.2" *
STANDARD_VERSION 1996 12 *
METADATA_DATE 1998 05 07 *
DATA_FILE_SIZE 48278760 *
BYTE_COUNT 6360 * * * * * * * * * * * * * * * * * * * * * * * * * * * * * * * * * * * * *
END_USGS_HEADER *
