BEGIN_USGS_DOQ_HEADER *
QUADRANGLE_NAME "DARWIN" 3.45 or 7.5-min. name*
QUADRANT NE quadrant indicator if cell size = 3.75-minutes*
WEST_LONGITUDE -117 33 45.000 signed deg min sec SDDD MM SS.SSS*
EAST_LONGITUDE -117 30 0.000 signed deg min sec SDDD MM SS.SSS*
NORTH_LATITUDE 36 22 30.000 signed deg min sec SDDD MM SS.SSS*
SOUTH_LATITUDE 36 18 45.000 signed deg min sec SDDD MM SS.SSS*
PRODUCTION_DATE 1997 1 4 yyyy mm dd*
RASTER_ORDER LEFT_RIGHT/TOP_BOTTOM video display order*
BAND_ORGANIZATION "SINGLE FILE" single file or BSQ, or BIL or BIP*
BAND_CONTENT BLACK&WHITE black&white or red green blue*
BITS_PER_PIXEL 8 radiometric resolution*
SAMPLES_AND_LINES 6360 7590 number of columns and rows*
HORIZONTAL_DATUM NAD83 primary horizontal datum*
HORIZONTAL_COORDINATE_SYSTEM UTM *
COORDINATE_ZONE 11 coordinate system zone number*
HORIZONTAL_UNITS METERS coordinate system units*
HORIZONTAL_RESOLUTION 1.00 pixel horiz. ground sample distance*
SECONDARY_HORIZONTAL_DATUM NAD27 secondary horizontal datum*
XY_ORIGIN 449100.000 4026000.000 coord. of upper left pixel pri. datum*
SECONDARY_XY_ORIGIN 449179.644 4025804.708 coord upper left pixel sec datum*
NATION US nation code*
STATE CA state fip code*
NW_QUAD_CORNER_XY 449544.072 4025689.630 XY coords. of pri. NW quad corner*
NE_QUAD_CORNER_XY 455150.331 4025658.801 XY coords. of pri. NE quad corner*
SE_QUAD_CORNER_XY 455114.477 4018726.159 XY coords. of pri. SE quad corner*
SW_QUAD_CORNER_XY 449503.736 4018756.967 XY coords. of pri. SW quad corner*
SECONDARY_NW_QUAD_XY 449542.862 4025488.121 XY coords. - sec. NW quad cor.*
SECONDARY_NE_QUAD_XY 455149.256 4025457.290 XY coords. - sec. NE quad cor.*
SECONDARY_SE_QUAD_XY 455113.403 4018524.820 XY coords. - sec. SE quad cor.*
SECONDARY_SW_QUAD_XY 449502.527 4018555.629 XY coords. - sec. SW quad cor.*
RMSE_XY 2.50 doq horiz. accuracy*
IMAGE_SOURCE "BLACK AND WHITE FILM" b&w, cir, natural color, other*
SOURCE_IMAGE_ID "NAPP 6879 151" source image id*
SOURCE_IMAGE_DATE 1995 10 7 source image date as yyyy mm dd*
SOURCE_DEM_DATE 1997 1 4 source dem date yyyy mm dd*
AGENCY "WESTERN MAPPING CENTER (WMC)" oversight agency*
PRODUCER "Analytical Surveys" producer/contractor*
PRODUCTION_SYSTEM "ORBIT OR_RECTIFY V.5.2" production system*
STANDARD_VERSION 1996 12 version of DOQ standard*
METADATA_DATE 1997 6 10 date created or changed, yyyy mm dd*
DATA_FILE_SIZE 48278760 data set size in bytes*
BYTE_COUNT 6360 header byte count* * * * * * * * * * * * * * * * * * * * * * * * * * * * * * * * * * * * *
END_USGS_HEADER *
