BEGIN_USGS_DOQ_HEADER *
QUADRANGLE_NAME "PANAMINT BUTTE" 3.45 or 7.5-min. name*
QUADRANT NE quadrant indicator if cell size = 3.75-minutes*
WEST_LONGITUDE -117 18 45.000 signed deg min sec SDDD MM SS.SSS*
EAST_LONGITUDE -117 15 0.000 signed deg min sec SDDD MM SS.SSS*
NORTH_LATITUDE 36 30 0.000 signed deg min sec SDDD MM SS.SSS*
SOUTH_LATITUDE 36 26 15.000 signed deg min sec SDDD MM SS.SSS*
PRODUCTION_DATE 1997 1 15 yyyy mm dd*
RASTER_ORDER LEFT_RIGHT/TOP_BOTTOM video display order*
BAND_ORGANIZATION "SINGLE FILE" single file or BSQ, or BIL or BIP*
BAND_CONTENT BLACK&WHITE black&white or red green blue*
BITS_PER_PIXEL 8 radiometric resolution*
SAMPLES_AND_LINES 6330 7590 number of columns and rows*
HORIZONTAL_DATUM NAD83 primary horizontal datum*
HORIZONTAL_COORDINATE_SYSTEM UTM *
COORDINATE_ZONE 11 coordinate system zone number*
HORIZONTAL_UNITS METERS coordinate system units*
HORIZONTAL_RESOLUTION 1.00 pixel horiz. ground sample distance*
SECONDARY_HORIZONTAL_DATUM NAD27 secondary horizontal datum*
XY_ORIGIN 471600.000 4039770.000 coord. of upper left pixel pri. datum*
SECONDARY_XY_ORIGIN 471679.749 4039574.238 coord upper left pixel sec datum*
NATION US nation code*
STATE CA state fip code*
NW_QUAD_CORNER_XY 472013.939 4039453.480 XY coords. of pri. NW quad corner*
NE_QUAD_CORNER_XY 477611.163 4039437.137 XY coords. of pri. NE quad corner*
SE_QUAD_CORNER_XY 477593.183 4032504.409 XY coords. of pri. SE quad corner*
SW_QUAD_CORNER_XY 471991.464 4032520.741 XY coords. of pri. SW quad corner*
SECONDARY_NW_QUAD_XY 472013.266 4039251.628 XY coords. - sec. NW quad cor.*
SECONDARY_NE_QUAD_XY 477610.624 4039235.285 XY coords. - sec. NE quad cor.*
SECONDARY_SE_QUAD_XY 477592.645 4032302.727 XY coords. - sec. SE quad cor.*
SECONDARY_SW_QUAD_XY 471990.791 4032319.059 XY coords. - sec. SW quad cor.*
RMSE_XY 1.80 doq horiz. accuracy*
IMAGE_SOURCE "BLACK AND WHITE FILM" b&w, cir, natural color, other*
SOURCE_IMAGE_ID "NAPP 6869 157" source image id*
SOURCE_IMAGE_DATE 1994 6 7 source image date as yyyy mm dd*
SOURCE_DEM_DATE 1997 1 15 source dem date yyyy mm dd*
AGENCY "WESTERN MAPPING CENTER (WMC)" oversight agency*
PRODUCER "Analytical Surveys" producer/contractor*
PRODUCTION_SYSTEM "ORBIT OR_RECTIFY V.5.2" production system*
STANDARD_VERSION 1996 12 version of DOQ standard*
METADATA_DATE 1997 11 12 date created or changed, yyyy mm dd*
DATA_FILE_SIZE 48051030 data set size in bytes*
BYTE_COUNT 6330 header byte count* * * * * * * * * * * * * * * * * * * * * * * * * * * * * * * * * * * * *
END_USGS_HEADER *
