BEGIN_USGS_DOQ_HEADER *
QUADRANGLE_NAME "STOVEPIPE WELLS NE" 3.45 or 7.5-min. name*
QUADRANT NW quadrant indicator if cell size = 3.75-minutes*
WEST_LONGITUDE -117 7 30.000 signed deg min sec SDDD MM SS.SSS*
EAST_LONGITUDE -117 3 45.000 signed deg min sec SDDD MM SS.SSS*
NORTH_LATITUDE 36 45 0.000 signed deg min sec SDDD MM SS.SSS*
SOUTH_LATITUDE 36 41 15.000 signed deg min sec SDDD MM SS.SSS*
PRODUCTION_DATE 1997 1 27 yyyy mm dd*
RASTER_ORDER LEFT_RIGHT/TOP_BOTTOM video display order*
BAND_ORGANIZATION "SINGLE FILE" single file or BSQ, or BIL or BIP*
BAND_CONTENT BLACK&WHITE black&white or red green blue*
BITS_PER_PIXEL 8 radiometric resolution*
SAMPLES_AND_LINES 6300 7560 number of columns and rows*
HORIZONTAL_DATUM NAD83 primary horizontal datum*
HORIZONTAL_COORDINATE_SYSTEM UTM *
COORDINATE_ZONE 11 coordinate system zone number*
HORIZONTAL_UNITS METERS coordinate system units*
HORIZONTAL_RESOLUTION 1.00 pixel horiz. ground sample distance*
SECONDARY_HORIZONTAL_DATUM NAD27 secondary horizontal datum*
XY_ORIGIN 488430.000 4067460.000 coord. of upper left pixel pri. datum*
SECONDARY_XY_ORIGIN 488509.995 4067263.263 coord upper left pixel sec datum*
NATION US nation code*
STATE CA state fip code*
NW_QUAD_CORNER_XY 488841.683 4067146.925 XY coords. of pri. NW quad corner*
NE_QUAD_CORNER_XY 494420.842 4067141.463 XY coords. of pri. NE quad corner*
SE_QUAD_CORNER_XY 494416.321 4060208.463 XY coords. of pri. SE quad corner*
SW_QUAD_CORNER_XY 488832.639 4060213.921 XY coords. of pri. SW quad corner*
SECONDARY_NW_QUAD_XY 488841.413 4066944.403 XY coords. - sec. NW quad cor.*
SECONDARY_NE_QUAD_XY 494420.707 4066938.941 XY coords. - sec. NE quad cor.*
SECONDARY_SE_QUAD_XY 494416.186 4060006.106 XY coords. - sec. SE quad cor.*
SECONDARY_SW_QUAD_XY 488832.369 4060011.565 XY coords. - sec. SW quad cor.*
RMSE_XY 1.90 doq horiz. accuracy*
IMAGE_SOURCE "BLACK AND WHITE FILM" b&w, cir, natural color, other*
SOURCE_IMAGE_ID "NAPP 6299 191" source image id*
SOURCE_IMAGE_DATE 1993 6 3 source image date as yyyy mm dd*
SOURCE_DEM_DATE 1997 1 27 source dem date yyyy mm dd*
AGENCY "WESTERN MAPPING CENTER (WMC)" oversight agency*
PRODUCER "Analytical Surveys" producer/contractor*
PRODUCTION_SYSTEM "ORBIT OR_RECTIFY V.5.2" production system*
STANDARD_VERSION 1996 12 version of DOQ standard*
METADATA_DATE 1997 11 2 date created or changed, yyyy mm dd*
DATA_FILE_SIZE 47634300 data set size in bytes*
BYTE_COUNT 6300 header byte count* * * * * * * * * * * * * * * * * * * * * * * * * * * * * * * * * * * *
END_USGS_HEADER *
