BEGIN_USGS_DOQ_HEADER *
QUADRANGLE_NAME "PAT KEYES CANYON" *
QUADRANT NW *
WEST_LONGITUDE -118 0 0.000 *
EAST_LONGITUDE -117 56 15.000 *
NORTH_LATITUDE 36 52 30.000 *
SOUTH_LATITUDE 36 48 45.000 *
PRODUCTION_DATE 2001 12 19 *
RASTER_ORDER LEFT_RIGHT/TOP_BOTTOM *
BAND_ORGANIZATION "SINGLE FILE" *
BAND_CONTENT BLACK&WHITE *
BITS_PER_PIXEL 8 *
SAMPLES_AND_LINES 6325 7597 *
HORIZONTAL_DATUM NAD83 *
HORIZONTAL_COORDINATE_SYSTEM UTM *
COORDINATE_ZONE 11 *
HORIZONTAL_UNITS METERS *
HORIZONTAL_RESOLUTION 1.0 *
SECONDARY_HORIZONTAL_DATUM NAD27 *
XY_ORIGIN 410422.407 4081772.589 *
SECONDARY_XY_ORIGIN 410502.444 4081576.545 *
NATION US *
STATE CA *
NW_QUAD_CORNER_XY 410877.216 4081472.589 *
NE_QUAD_CORNER_XY 416447.535 4081416.067 *
SE_QUAD_CORNER_XY 416379.502 4074482.659 *
SW_QUAD_CORNER_XY 410804.646 4074539.144 *
SECONDARY_NW_QUAD_XY 410875.055 4081269.747 *
SECONDARY_NE_QUAD_XY 416445.510 4081213.226 *
SECONDARY_SE_QUAD_XY 416377.478 4074279.982 *
SECONDARY_SW_QUAD_XY 410802.486 4074336.467 *
RMSE_XY 3.18 *
IMAGE_SOURCE "BLACK AND WHITE FILM" *
SOURCE_IMAGE_ID "NAPP 10551 26" *
SOURCE_IMAGE_DATE 1998 8 22 *
SOURCE_IMAGE_ID "NAPP 10551 27" *
SOURCE_IMAGE_DATE 1998 8 22 *
SOURCE_IMAGE_ID "NAPP 10551 25" *
SOURCE_IMAGE_DATE 1998 8 22 *
SOURCE_IMAGE_ID "NAPP 10569 198" *
SOURCE_IMAGE_DATE 1999 8 8 *
SOURCE_IMAGE_ID "NAPP 10569 197" *
SOURCE_IMAGE_DATE 1999 8 8 *
SOURCE_IMAGE_ID "NAPP 10569 196" *
SOURCE_IMAGE_DATE 1999 8 8 *
SOURCE_IMAGE_ID "NAPP 10552 206" *
SOURCE_IMAGE_DATE 1998 8 23 *
SOURCE_IMAGE_ID "NAPP 10552 207" *
SOURCE_IMAGE_DATE 1998 8 23 *
SOURCE_IMAGE_ID "NAPP 10551 84" *
SOURCE_IMAGE_DATE 1998 8 22 *
SOURCE_DEM_DATE 2000 0 0 *
AGENCY "WESTERN MAPPING CENTER (WMC)" *
PRODUCER "USDA FS GEOSPATIAL SERVICE AND TECHNOLOGY CENTER" *
PRODUCTION_SYSTEM "ORBIT OR_RECTIFY V.5.2" *
STANDARD_VERSION 1996 12 *
METADATA_DATE 2001 12 31 *
DATA_FILE_SIZE 48057350 *
BYTE_COUNT 6325 * * * * * * * * * * * * * * * * * * * * *
END_USGS_HEADER *
