BEGIN_USGS_DOQ_HEADER *
QUADRANGLE_NAME "TIN MOUNTAIN" 3.45 or 7.5-min. name*
QUADRANT NW quadrant indicator if cell size = 3.75-minutes*
WEST_LONGITUDE -117 30 0.000 signed deg min sec SDDD MM SS.SSS*
EAST_LONGITUDE -117 26 15.000 signed deg min sec SDDD MM SS.SSS*
NORTH_LATITUDE 37 0 0.000 signed deg min sec SDDD MM SS.SSS*
SOUTH_LATITUDE 36 56 15.000 signed deg min sec SDDD MM SS.SSS*
PRODUCTION_DATE 1997 1 23 yyyy mm dd*
RASTER_ORDER LEFT_RIGHT/TOP_BOTTOM video display order*
BAND_ORGANIZATION "SINGLE FILE" single file or BSQ, or BIL or BIP*
BAND_CONTENT BLACK&WHITE black&white or red green blue*
BITS_PER_PIXEL 8 radiometric resolution*
SAMPLES_AND_LINES 6330 7590 number of columns and rows*
HORIZONTAL_DATUM NAD83 primary horizontal datum*
HORIZONTAL_COORDINATE_SYSTEM UTM *
COORDINATE_ZONE 11 coordinate system zone number*
HORIZONTAL_UNITS METERS coordinate system units*
HORIZONTAL_RESOLUTION 1.00 pixel horiz. ground sample distance*
SECONDARY_HORIZONTAL_DATUM NAD27 secondary horizontal datum*
XY_ORIGIN 455070.000 4095300.000 coord. of upper left pixel pri. datum*
SECONDARY_XY_ORIGIN 455149.493 4095103.726 coord upper left pixel sec datum*
NATION US nation code*
STATE CA state fip code*
NW_QUAD_CORNER_XY 455511.809 4094989.194 XY coords. of pri. NW quad corner*
NE_QUAD_CORNER_XY 461072.865 4094961.813 XY coords. of pri. NE quad corner*
SE_QUAD_CORNER_XY 461041.027 4088028.465 XY coords. of pri. SE quad corner*
SW_QUAD_CORNER_XY 455475.422 4088055.829 XY coords. of pri. SW quad corner*
SECONDARY_NW_QUAD_XY 455510.725 4094786.018 XY coords. - sec. NW quad cor.*
SECONDARY_NE_QUAD_XY 461071.917 4094758.636 XY coords. - sec. NE quad cor.*
SECONDARY_SE_QUAD_XY 461040.079 4087825.451 XY coords. - sec. SE quad cor.*
SECONDARY_SW_QUAD_XY 455474.339 4087852.815 XY coords. - sec. SW quad cor.*
RMSE_XY 2.20 doq horiz. accuracy*
IMAGE_SOURCE "BLACK AND WHITE FILM" b&w, cir, natural color, other*
SOURCE_IMAGE_ID "NAPP 6299 214" source image id*
SOURCE_IMAGE_DATE 1993 6 3 source image date as yyyy mm dd*
SOURCE_DEM_DATE 1997 1 23 source dem date yyyy mm dd*
AGENCY "WESTERN MAPPING CENTER (WMC)" oversight agency*
PRODUCER "Analytical Surveys" producer/contractor*
PRODUCTION_SYSTEM "ORBIT OR_RECTIFY V.5.2" production system*
STANDARD_VERSION 1996 12 version of DOQ standard*
METADATA_DATE 1997 11 3 date created or changed, yyyy mm dd*
DATA_FILE_SIZE 48051030 data set size in bytes*
BYTE_COUNT 6330 header byte count* * * * * * * * * * * * * * * * * * * * * * * * * * * * * * * * * * * * *
END_USGS_HEADER *
