BEGIN_USGS_DOQ_HEADER *
QUADRANGLE_NAME "WAUCOBA CANYON" *
QUADRANT NW *
WEST_LONGITUDE -118 0 0.000 *
EAST_LONGITUDE -117 56 15.000 *
NORTH_LATITUDE 37 0 0.000 *
SOUTH_LATITUDE 36 56 15.000 *
PRODUCTION_DATE 2001 12 19 *
RASTER_ORDER LEFT_RIGHT/TOP_BOTTOM *
BAND_ORGANIZATION "SINGLE FILE" *
BAND_CONTENT BLACK&WHITE *
BITS_PER_PIXEL 8 *
SAMPLES_AND_LINES 6316 7597 *
HORIZONTAL_DATUM NAD83 *
HORIZONTAL_COORDINATE_SYSTEM UTM *
COORDINATE_ZONE 11 *
HORIZONTAL_UNITS METERS *
HORIZONTAL_RESOLUTION 1.0 *
SECONDARY_HORIZONTAL_DATUM NAD27 *
XY_ORIGIN 410567.742 4095639.691 *
SECONDARY_XY_ORIGIN 410647.691 4095443.381 *
NATION US *
STATE CA *
NW_QUAD_CORNER_XY 411022.676 4095339.691 *
NE_QUAD_CORNER_XY 416583.901 4095283.098 *
SE_QUAD_CORNER_XY 416515.668 4088349.547 *
SW_QUAD_CORNER_XY 410949.893 4088406.104 *
SECONDARY_NW_QUAD_XY 411020.511 4095136.522 *
SECONDARY_NE_QUAD_XY 416581.872 4095079.929 *
SECONDARY_SE_QUAD_XY 416513.641 4088146.542 *
SECONDARY_SW_QUAD_XY 410947.730 4088203.098 *
RMSE_XY 3.18 *
IMAGE_SOURCE "BLACK AND WHITE FILM" *
SOURCE_IMAGE_ID "NAPP 10551 22" *
SOURCE_IMAGE_DATE 1998 8 22 *
SOURCE_IMAGE_ID "NAPP 10551 23" *
SOURCE_IMAGE_DATE 1998 8 22 *
SOURCE_IMAGE_ID "NAPP 10551 21" *
SOURCE_IMAGE_DATE 1998 8 22 *
SOURCE_IMAGE_ID "NAPP 10569 194" *
SOURCE_IMAGE_DATE 1999 8 8 *
SOURCE_IMAGE_ID "NAPP 10569 193" *
SOURCE_IMAGE_DATE 1999 8 8 *
SOURCE_IMAGE_ID "NAPP 10569 192" *
SOURCE_IMAGE_DATE 1999 8 8 *
SOURCE_IMAGE_ID "NAPP 10551 82" *
SOURCE_IMAGE_DATE 1998 8 22 *
SOURCE_IMAGE_ID "NAPP 10551 81" *
SOURCE_IMAGE_DATE 1998 8 22 *
SOURCE_IMAGE_ID "NAPP 10551 80" *
SOURCE_IMAGE_DATE 1998 8 22 *
SOURCE_DEM_DATE 2000 0 0 *
AGENCY "WESTERN MAPPING CENTER (WMC)" *
PRODUCER "USDA FS GEOSPATIAL SERVICE AND TECHNOLOGY CENTER" *
PRODUCTION_SYSTEM "ORBIT OR_RECTIFY V.5.2" *
STANDARD_VERSION 1996 12 *
METADATA_DATE 2001 12 31 *
DATA_FILE_SIZE 47988968 *
BYTE_COUNT 6316 * * * * * * * * * * * * * * * * * * * *
END_USGS_HEADER *
