BEGIN_USGS_DOQ_HEADER *
QUADRANGLE_NAME "LODI SOUTH" 3.45 or 7.5-min. name*
QUADRANT SW quadrant indicator if cell size = 3.75-minutes*
WEST_LONGITUDE -121 22 30.000 signed deg min sec SDDD MM SS.SSS*
EAST_LONGITUDE -121 18 45.000 signed deg min sec SDDD MM SS.SSS*
NORTH_LATITUDE 38 3 45.000 signed deg min sec SDDD MM SS.SSS*
SOUTH_LATITUDE 38 0 0.000 signed deg min sec SDDD MM SS.SSS*
PRODUCTION_DATE 2001 10 26 yyyy mm dd*
RASTER_ORDER LEFT_RIGHT/TOP_BOTTOM video display order*
BAND_ORGANIZATION "SINGLE FILE" single file or BSQ, or BIL or BIP*
BAND_CONTENT BLACK&WHITE black&white or red green blue*
BITS_PER_PIXEL 8 radiometric resolution*
SAMPLES_AND_LINES 6285 7646 number of columns and rows*
HORIZONTAL_DATUM NAD83 primary horizontal datum*
HORIZONTAL_COORDINATE_SYSTEM UTM *
COORDINATE_ZONE 10 coordinate system zone number*
HORIZONTAL_UNITS METERS coordinate system units*
HORIZONTAL_RESOLUTION 1.00 pixel horiz. ground sample distance*
SECONDARY_HORIZONTAL_DATUM NAD27 secondary horizontal datum*
XY_ORIGIN 642180.000 4214395.000 coord. of upper left pixel pri. datum*
SECONDARY_XY_ORIGIN 642277.000 4214200.000 coord upper left pixel sec datum*
NATION US nation code*
STATE CA state fip code*
NW_QUAD_CORNER_XY 642554.119 4213996.066 XY coords. of pri. NW quad corner*
NE_QUAD_CORNER_XY 648037.347 4214093.815 XY coords. of pri. NE quad corner*
SE_QUAD_CORNER_XY 648163.227 4207158.541 XY coords. of pri. SE quad corner*
SW_QUAD_CORNER_XY 642675.333 4207060.846 XY coords. of pri. SW quad corner*
SECONDARY_NW_QUAD_XY 642557.688 4213790.272 XY coords. - sec. NW quad cor.*
SECONDARY_NE_QUAD_XY 648041.053 4213888.023 XY coords. - sec. NE quad cor.*
SECONDARY_SE_QUAD_XY 648166.930 4206952.898 XY coords. - sec. SE quad cor.*
SECONDARY_SW_QUAD_XY 642678.900 4206855.201 XY coords. - sec. SW quad cor.*
RMSE_XY 0.80 doq horiz. accuracy*
IMAGE_SOURCE "BLACK AND WHITE FILM" b&w, cir, natural color, other*
SOURCE_IMAGE_ID "NAPP 10539 57" source image id*
SOURCE_IMAGE_DATE 1998 9 16 source image date as yyyy mm dd*
SOURCE_DEM_DATE 1967 1 1 source dem date yyyy mm dd*
AGENCY "WESTERN MAPPING CENTER (WMC)" oversight agency*
PRODUCER "WESTERN MAPPING CENTER (WMC)" *
PRODUCTION_SYSTEM "DV2.6.4 1/00 OV2.6 6/00" production system*
STANDARD_VERSION 1996 12 version of DOQ standard*
METADATA_DATE 2001 10 26 date created or changed, yyyy mm dd*
DATA_FILE_SIZE 48061395 data set size in bytes*
BYTE_COUNT 6285 header byte count* * * * * * * * * * * * * * * * * * * * * * * * * * * * * * * * * * * *
END_USGS_HEADER *
