BEGIN_USGS_DOQ_HEADER *
QUADRANGLE_NAME "JERSEY ISLAND" 3.45 or 7.5-min. name*
QUADRANT SW quadrant indicator if cell size = 3.75-minutes*
WEST_LONGITUDE -121 45 0.000 signed deg min sec SDDD MM SS.SSS*
EAST_LONGITUDE -121 41 15.000 signed deg min sec SDDD MM SS.SSS*
NORTH_LATITUDE 38 3 45.000 signed deg min sec SDDD MM SS.SSS*
SOUTH_LATITUDE 38 0 0.000 signed deg min sec SDDD MM SS.SSS*
PRODUCTION_DATE 1998 8 6 yyyy mm dd*
RASTER_ORDER LEFT_RIGHT/TOP_BOTTOM video display order*
BAND_ORGANIZATION "SINGLE FILE" single file or BSQ, or BIL or BIP*
BAND_CONTENT BLACK&WHITE black&white or red green blue*
BITS_PER_PIXEL 8 radiometric resolution*
SAMPLES_AND_LINES 6277 7623 number of columns and rows*
HORIZONTAL_DATUM NAD83 primary horizontal datum*
HORIZONTAL_COORDINATE_SYSTEM UTM *
COORDINATE_ZONE 10 coordinate system zone number*
HORIZONTAL_UNITS METERS coordinate system units*
HORIZONTAL_RESOLUTION 1.00 pixel horiz. ground sample distance*
SECONDARY_HORIZONTAL_DATUM NAD27 secondary horizontal datum*
XY_ORIGIN 609261.000 4213863.000 coord. of upper left pixel pri. datum*
SECONDARY_XY_ORIGIN 609357.126 4213667.368 coord upper left pixel sec datum*
NATION US nation code*
STATE CA state fip code*
NW_QUAD_CORNER_XY 609655.561 4213487.083 XY coords. of pri. NW quad corner*
NE_QUAD_CORNER_XY 615138.566 4213562.688 XY coords. of pri. NE quad corner*
SE_QUAD_CORNER_XY 615236.457 4206627.703 XY coords. of pri. SE quad corner*
SW_QUAD_CORNER_XY 609748.788 4206552.140 XY coords. of pri. SW quad corner*
SECONDARY_NW_QUAD_XY 609658.306 4213281.276 XY coords. - sec. NW quad cor.*
SECONDARY_NE_QUAD_XY 615141.448 4213356.883 XY coords. - sec. NE quad cor.*
SECONDARY_SE_QUAD_XY 615239.337 4206422.047 XY coords. - sec. SE quad cor.*
SECONDARY_SW_QUAD_XY 609751.532 4206346.482 XY coords. - sec. SW quad cor.*
RMSE_XY 1.20 doq horiz. accuracy*
IMAGE_SOURCE "BLACK AND WHITE FILM" b&w, cir, natural color, other*
SOURCE_IMAGE_ID "NAPP 6357 048" source image id*
SOURCE_IMAGE_DATE 1993 06 16 source image date as yyyy mm dd*
IMAGE_SOURCE "BLACK AND WHITE FILM" b&w, cir, natural color, other*
SOURCE_IMAGE_ID "NAPP 6356 146" source image id*
SOURCE_IMAGE_DATE 1993 06 15 source image date as yyyy mm dd*
SOURCE_DEM_DATE 1978 00 00 source dem date yyyy mm dd*
AGENCY "WESTERN MAPPING CENTER (WMC)" oversight agency*
PRODUCER "SCIENCE APPLICATIONS INTERNATIONAL" producer/contractor*
PRODUCTION_SYSTEM "GIS/MAGIC" production system*
STANDARD_VERSION 1996 12 version of DOQ standard*
METADATA_DATE 1998 08 24 date created or changed, yyyy mm dd*
DATA_FILE_SIZE 47855848 data set size in bytes*
BYTE_COUNT 6277 header byte count* * * * * * * * * * * * * * * * * * * * * * * * * * * * * * * * *
END_USGS_HEADER *
