BEGIN_USGS_DOQ_HEADER *
QUADRANGLE_NAME "TAYLOR MONUMENT" 3.45 or 7.5-min. name*
QUADRANT NE quadrant indicator if cell size = 3.75-minutes*
WEST_LONGITUDE -121 33 45.000 signed deg min sec SDDD MM SS.SSS*
EAST_LONGITUDE -121 30 0.000 signed deg min sec SDDD MM SS.SSS*
NORTH_LATITUDE 38 45 0.000 signed deg min sec SDDD MM SS.SSS*
SOUTH_LATITUDE 38 41 15.000 signed deg min sec SDDD MM SS.SSS*
PRODUCTION_DATE 2001 10 9 yyyy mm dd*
RASTER_ORDER LEFT_RIGHT/TOP_BOTTOM video display order*
BAND_ORGANIZATION "SINGLE FILE" single file or BSQ, or BIL or BIP*
BAND_CONTENT BLACK&WHITE black&white or red green blue*
BITS_PER_PIXEL 8 radiometric resolution*
SAMPLES_AND_LINES 6240 7639 number of columns and rows*
HORIZONTAL_DATUM NAD83 primary horizontal datum*
HORIZONTAL_COORDINATE_SYSTEM UTM *
COORDINATE_ZONE 10 coordinate system zone number*
HORIZONTAL_UNITS METERS coordinate system units*
HORIZONTAL_RESOLUTION 1.00 pixel horiz. ground sample distance*
SECONDARY_HORIZONTAL_DATUM NAD27 secondary horizontal datum*
XY_ORIGIN 624522.000 4290404.000 coord. of upper left pixel pri. datum*
SECONDARY_XY_ORIGIN 624617.913 4290208.964 coord upper left pixel sec datum*
NATION US nation code*
STATE CA state fip code*
NW_QUAD_CORNER_XY 624915.356 4290015.352 XY coords. of pri. NW quad corner*
NE_QUAD_CORNER_XY 630346.724 4290102.519 XY coords. of pri. NE quad corner*
SE_QUAD_CORNER_XY 630460.329 4283166.639 XY coords. of pri. SE quad corner*
SW_QUAD_CORNER_XY 625024.224 4283079.515 XY coords. of pri. SW quad corner*
SECONDARY_NW_QUAD_XY 624918.538 4289807.966 XY coords. - sec. NW quad cor.*
SECONDARY_NE_QUAD_XY 630350.044 4289895.135 XY coords. - sec. NE quad cor.*
SECONDARY_SE_QUAD_XY 630463.647 4282959.395 XY coords. - sec. SE quad cor.*
SECONDARY_SW_QUAD_XY 625027.404 4282872.268 XY coords. - sec. SW quad cor.*
RMSE_XY 3.40 doq horiz. accuracy*
IMAGE_SOURCE "BLACK AND WHITE FILM" b&w, cir, natural color, other*
SOURCE_IMAGE_ID "NAPP 10525 226" source image id*
SOURCE_IMAGE_DATE 1998 8 21 source image date as yyyy mm dd*
SOURCE_DEM_DATE 1947 0 0 source dem date yyyy mm dd*
AGENCY "WESTERN MAPPING CENTER (WMC)" oversight agency*
PRODUCER "WESTERN MAPPING CENTER (WMC)" *
PRODUCTION_SYSTEM "DV2.6.4 1/00 OV2.6 6/00" production system*
STANDARD_VERSION 1996 12 version of DOQ standard*
METADATA_DATE 2001 10 9 date created or changed, yyyy mm dd*
DATA_FILE_SIZE 47673600 data set size in bytes*
BYTE_COUNT 6240 header byte count* * * * * * * * * * * * * * * * * * * * * * * * * * * * * * * * * * *
END_USGS_HEADER *
