BEGIN_USGS_DOQ_HEADER *
QUADRANGLE_NAME "WOODLAND" 3.45 or 7.5-min. name*
QUADRANT NE quadrant indicator if cell size = 3.75-minutes*
WEST_LONGITUDE -121 48 45.000 signed deg min sec SDDD MM SS.SSS*
EAST_LONGITUDE -121 45 0.000 signed deg min sec SDDD MM SS.SSS*
NORTH_LATITUDE 38 45 0.000 signed deg min sec SDDD MM SS.SSS*
SOUTH_LATITUDE 38 41 15.000 signed deg min sec SDDD MM SS.SSS*
PRODUCTION_DATE 1998 8 6 yyyy mm dd*
RASTER_ORDER LEFT_RIGHT/TOP_BOTTOM video display order*
BAND_ORGANIZATION "SINGLE FILE" single file or BSQ, or BIL or BIP*
BAND_CONTENT BLACK&WHITE black&white or red green blue*
BITS_PER_PIXEL 8 radiometric resolution*
SAMPLES_AND_LINES 6223 7623 number of columns and rows*
HORIZONTAL_DATUM NAD83 primary horizontal datum*
HORIZONTAL_COORDINATE_SYSTEM UTM *
COORDINATE_ZONE 10 coordinate system zone number*
HORIZONTAL_UNITS METERS coordinate system units*
HORIZONTAL_RESOLUTION 1.00 pixel horiz. ground sample distance*
SECONDARY_HORIZONTAL_DATUM NAD27 secondary horizontal datum*
XY_ORIGIN 602795.000 4290077.000 coord. of upper left pixel pri. datum*
SECONDARY_XY_ORIGIN 602891.058 4289881.530 coord upper left pixel sec datum*
NATION US nation code*
STATE CA state fip code*
NW_QUAD_CORNER_XY 603190.194 4289703.794 XY coords. of pri. NW quad corner*
NE_QUAD_CORNER_XY 608621.440 4289776.117 XY coords. of pri. NE quad corner*
SE_QUAD_CORNER_XY 608716.102 4282840.397 XY coords. of pri. SE quad corner*
SW_QUAD_CORNER_XY 603280.120 4282768.109 XY coords. of pri. SW quad corner*
SECONDARY_NW_QUAD_XY 603192.822 4289496.400 XY coords. - sec. NW quad cor.*
SECONDARY_NE_QUAD_XY 608624.207 4289568.725 XY coords. - sec. NE quad cor.*
SECONDARY_SE_QUAD_XY 608718.867 4282633.145 XY coords. - sec. SE quad cor.*
SECONDARY_SW_QUAD_XY 603282.747 4282560.855 XY coords. - sec. SW quad cor.*
RMSE_XY 0.80 doq horiz. accuracy*
IMAGE_SOURCE "BLACK AND WHITE FILM" b&w, cir, natural color, other*
SOURCE_IMAGE_ID "NAPP 6354 134" source image id*
SOURCE_IMAGE_DATE 1993 06 12 source image date as yyyy mm dd*
IMAGE_SOURCE "BLACK AND WHITE FILM" b&w, cir, natural color, other*
SOURCE_IMAGE_ID "NAPP 6354 185" source image id*
SOURCE_IMAGE_DATE 1993 06 12 source image date as yyyy mm dd*
SOURCE_DEM_DATE 1981 00 00 source dem date yyyy mm dd*
AGENCY "WESTERN MAPPING CENTER (WMC)" oversight agency*
PRODUCER "SCIENCE APPLICATIONS INTERNATIONAL" producer/contractor*
PRODUCTION_SYSTEM "GIS/MAGIC" production system*
STANDARD_VERSION 1996 12 version of DOQ standard*
METADATA_DATE 1998 08 24 date created or changed, yyyy mm dd*
DATA_FILE_SIZE 47444152 data set size in bytes*
BYTE_COUNT 6223 header byte count* * * * * * * * * * * * * * * * * * * * * * * * * * * * * * * *
END_USGS_HEADER *
