BEGIN_USGS_DOQ_HEADER *
QUADRANGLE_NAME "DUNNIGAN" 3.45 or 7.5-min. name*
QUADRANT NE quadrant indicator if cell size = 3.75-minutes*
WEST_LONGITUDE -121 56 15.000 signed deg min sec SDDD MM SS.SSS*
EAST_LONGITUDE -121 52 30.000 signed deg min sec SDDD MM SS.SSS*
NORTH_LATITUDE 39 0 0.000 signed deg min sec SDDD MM SS.SSS*
SOUTH_LATITUDE 38 56 15.000 signed deg min sec SDDD MM SS.SSS*
PRODUCTION_DATE 1999 10 5 yyyy mm dd*
RASTER_ORDER LEFT_RIGHT/TOP_BOTTOM video display order*
BAND_ORGANIZATION "SINGLE FILE" single file or BSQ, or BIL or BIP*
BAND_CONTENT BLACK&WHITE black&white or red green blue*
BITS_PER_PIXEL 8 radiometric resolution*
SAMPLES_AND_LINES 6192 7617 number of columns and rows*
HORIZONTAL_DATUM NAD83 primary horizontal datum*
HORIZONTAL_COORDINATE_SYSTEM UTM *
COORDINATE_ZONE 10 coordinate system zone number*
HORIZONTAL_UNITS METERS coordinate system units*
HORIZONTAL_RESOLUTION 1.00 pixel horiz. ground sample distance*
SECONDARY_HORIZONTAL_DATUM NAD27 secondary horizontal datum*
XY_ORIGIN 591611.000 4317680.000 coord. of upper left pixel pri. datum*
SECONDARY_XY_ORIGIN 591706.665 4317484.629 coord upper left pixel sec datum*
NATION US nation code*
STATE CA state fip code*
NW_QUAD_CORNER_XY 592004.847 4317313.475 XY coords. of pri. NW quad corner*
NE_QUAD_CORNER_XY 597417.039 4317378.502 XY coords. of pri. NE quad corner*
SE_QUAD_CORNER_XY 597502.698 4310442.564 XY coords. of pri. SE quad corner*
SW_QUAD_CORNER_XY 592085.745 4310377.568 XY coords. of pri. SW quad corner*
SECONDARY_NW_QUAD_XY 592007.205 4317105.525 XY coords. - sec. NW quad cor.*
SECONDARY_NE_QUAD_XY 597419.536 4317170.554 XY coords. - sec. NE quad cor.*
SECONDARY_SE_QUAD_XY 597505.193 4310234.753 XY coords. - sec. SE quad cor.*
SECONDARY_SW_QUAD_XY 592088.102 4310169.755 XY coords. - sec. SW quad cor.*
RMSE_XY 1.50 doq horiz. accuracy*
IMAGE_SOURCE "BLACK AND WHITE FILM" b&w, cir, natural color, other*
SOURCE_IMAGE_ID "NAPP 6357 109" source image id*
SOURCE_IMAGE_DATE 1993 6 16 source image date as yyyy mm dd*
SOURCE_DEM_DATE 1999 10 5 source dem date yyyy mm dd*
AGENCY "WESTERN MAPPING CENTER (WMC)" oversight agency*
PRODUCER "WESTERN MAPPING CENTER (WMC)" *
PRODUCTION_SYSTEM "DV2.6.3 10/9OV2.4 5/95" production system*
STANDARD_VERSION 1996 12 version of DOQ standard*
METADATA_DATE 1999 10 8 date created or changed, yyyy mm dd*
DATA_FILE_SIZE 47170656 data set size in bytes*
BYTE_COUNT 6192 header byte count* * * * * * * * * * * * * * * * * * * * * * * * * * * * * * * * * * *
END_USGS_HEADER *
