BEGIN_USGS_DOQ_HEADER *
QUADRANGLE_NAME "RENO NW" *
QUADRANT SE *
WEST_LONGITUDE -119 56 15.000 *
EAST_LONGITUDE -119 52 30.000 *
NORTH_LATITUDE 39 41 15.000 *
SOUTH_LATITUDE 39 37 30.000 *
PRODUCTION_DATE 2003 1 28 *
RASTER_ORDER LEFT_RIGHT/TOP_BOTTOM *
BAND_ORGANIZATION "SINGLE FILE" *
BAND_CONTENT BLACK&WHITE *
BITS_PER_PIXEL 8 *
SAMPLES_AND_LINES 6277 7719 *
HORIZONTAL_DATUM NAD83 *
HORIZONTAL_COORDINATE_SYSTEM UTM *
COORDINATE_ZONE 11 *
HORIZONTAL_UNITS METERS *
HORIZONTAL_RESOLUTION 1.0 *
SECONDARY_HORIZONTAL_DATUM NAD27 *
XY_ORIGIN 247480.006 4397499.421 *
SECONDARY_XY_ORIGIN 247562.173 4397297.388 *
NATION US *
STATE NV *
NW_QUAD_CORNER_XY 248096.034 4397199.421 *
NE_QUAD_CORNER_XY 253456.539 4397025.633 *
SE_QUAD_CORNER_XY 253234.174 4390087.521 *
SW_QUAD_CORNER_XY 247868.824 4390261.238 *
SECONDARY_NW_QUAD_XY 248089.468 4396990.117 *
SECONDARY_NE_QUAD_XY 253450.113 4396816.325 *
SECONDARY_SE_QUAD_XY 253227.752 4389878.340 *
SECONDARY_SW_QUAD_XY 247862.262 4390052.061 *
RMSE_XY 1.48 *
IMAGE_SOURCE "BLACK AND WHITE FILM" *
SOURCE_IMAGE_ID "NAPP 11553 93" *
SOURCE_IMAGE_DATE 1999 9 11 *
SOURCE_IMAGE_ID "NAPP 11553 92" *
SOURCE_IMAGE_DATE 1999 9 11 *
SOURCE_IMAGE_ID "NAPP 11553 94" *
SOURCE_IMAGE_DATE 1999 9 11 *
SOURCE_IMAGE_ID "NAPP 11547 19" *
SOURCE_IMAGE_DATE 1999 9 6 *
SOURCE_IMAGE_ID "NAPP 11547 20" *
SOURCE_IMAGE_DATE 1999 9 6 *
SOURCE_IMAGE_ID "NAPP 11547 21" *
SOURCE_IMAGE_DATE 1999 9 6 *
SOURCE_IMAGE_ID "NAPP 11553 114" *
SOURCE_IMAGE_DATE 1999 9 11 *
SOURCE_DEM_DATE 2003 1 1 *
AGENCY "WESTERN MAPPING CENTER (WMC)" *
PRODUCER "USDA FS GEOSPATIAL SERVICE AND TECHNOLOGY CENTER" *
PRODUCTION_SYSTEM "ORBIT OR_RECTIFY V.5.2" *
STANDARD_VERSION 1996 12 *
METADATA_DATE 2003 3 6 *
DATA_FILE_SIZE 48458440 *
BYTE_COUNT 6277 * * * * * * * * * * * * * * * * * * * * * * * *
END_USGS_HEADER *
