BEGIN_USGS_DOQ_HEADER *
QUADRANGLE_NAME "DUTCH FLAT" 3.45 or 7.5-min. name*
QUADRANT NW quadrant indicator if cell size = 3.75-minutes*
WEST_LONGITUDE -120 52 30.000 signed deg min sec SDDD MM SS.SSS*
EAST_LONGITUDE -120 48 45.000 signed deg min sec SDDD MM SS.SSS*
NORTH_LATITUDE 39 15 0.000 signed deg min sec SDDD MM SS.SSS*
SOUTH_LATITUDE 39 11 15.000 signed deg min sec SDDD MM SS.SSS*
PRODUCTION_DATE 2000 10 5 yyyy mm dd*
RASTER_ORDER LEFT_RIGHT/TOP_BOTTOM video display order*
BAND_ORGANIZATION "SINGLE FILE" single file or BSQ, or BIL or BIP*
BAND_CONTENT BLACK&WHITE black&white or red green blue*
BITS_PER_PIXEL 8 radiometric resolution*
SAMPLES_AND_LINES 6254 7682 number of columns and rows*
HORIZONTAL_DATUM NAD83 primary horizontal datum*
HORIZONTAL_COORDINATE_SYSTEM UTM *
COORDINATE_ZONE 10 coordinate system zone number*
HORIZONTAL_UNITS METERS coordinate system units*
HORIZONTAL_RESOLUTION 1.00 pixel horiz. ground sample distance*
SECONDARY_HORIZONTAL_DATUM NAD27 secondary horizontal datum*
XY_ORIGIN 682975.000 4347101.000 coord. of upper left pixel pri. datum*
SECONDARY_XY_ORIGIN 683070.339 4346906.125 coord upper left pixel sec datum*
NATION US nation code*
STATE CA state fip code*
NW_QUAD_CORNER_XY 683366.668 4346671.930 XY coords. of pri. NW quad corner*
NE_QUAD_CORNER_XY 688760.326 4346800.419 XY coords. of pri. NE quad corner*
SE_QUAD_CORNER_XY 688927.866 4339863.442 XY coords. of pri. SE quad corner*
SW_QUAD_CORNER_XY 683529.416 4339735.010 XY coords. of pri. SW quad corner*
SECONDARY_NW_QUAD_XY 683371.398 4346463.483 XY coords. - sec. NW quad cor.*
SECONDARY_NE_QUAD_XY 688765.195 4346591.976 XY coords. - sec. NE quad cor.*
SECONDARY_SE_QUAD_XY 688932.732 4339655.132 XY coords. - sec. SE quad cor.*
SECONDARY_SW_QUAD_XY 683534.143 4339526.697 XY coords. - sec. SW quad cor.*
RMSE_XY 3.50 doq horiz. accuracy*
IMAGE_SOURCE "BLACK AND WHITE FILM" b&w, cir, natural color, other*
SOURCE_IMAGE_ID "NAPP 10544 028" source image id*
SOURCE_IMAGE_DATE 1999 08 02 source image date as yyyy mm dd*
SOURCE_IMAGE_ID "NAPP 10533 035" source image id*
SOURCE_IMAGE_DATE 1998 08 29 source image date as yyyy mm dd*
SOURCE_IMAGE_ID "NAPP 10533 028" source image id*
SOURCE_IMAGE_DATE 1998 08 29 source image date as yyyy mm dd*
SOURCE_IMAGE_ID "NAPP 10533 026" source image id*
SOURCE_IMAGE_DATE 1998 08 29 source image date as yyyy mm dd*
SOURCE_DEM_DATE 2000 01 01 source dem date yyyy mm dd*
AGENCY "WESTERN MAPPING CENTER (WMC)" oversight agency*
PRODUCER "SCIENCE APPLICATIONS INTERNATIONAL" producer/contractor*
PRODUCTION_SYSTEM "GIS/MAGIC" production system*
STANDARD_VERSION 1996 12 version of DOQ standard*
METADATA_DATE 2000 12 04 date created or changed, yyyy mm dd*
DATA_FILE_SIZE 48049482 data set size in bytes*
BYTE_COUNT 6254 header byte count* * * * * * * * * * * * * * * * * * * * * * * * * * * * * *
END_USGS_HEADER *
