BEGIN_USGS_DOQ_HEADER *
QUADRANGLE_NAME "NORDEN" 3.45 or 7.5-min. name*
QUADRANT NW quadrant indicator if cell size = 3.75-minutes*
WEST_LONGITUDE -120 22 30.000 signed deg min sec SDDD MM SS.SSS*
EAST_LONGITUDE -120 18 45.000 signed deg min sec SDDD MM SS.SSS*
NORTH_LATITUDE 39 22 30.000 signed deg min sec SDDD MM SS.SSS*
SOUTH_LATITUDE 39 18 45.000 signed deg min sec SDDD MM SS.SSS*
PRODUCTION_DATE 2000 11 29 yyyy mm dd*
RASTER_ORDER LEFT_RIGHT/TOP_BOTTOM video display order*
BAND_ORGANIZATION "SINGLE FILE" single file or BSQ, or BIL or BIP*
BAND_CONTENT BLACK&WHITE black&white or red green blue*
BITS_PER_PIXEL 8 radiometric resolution*
SAMPLES_AND_LINES 6283 7712 number of columns and rows*
HORIZONTAL_DATUM NAD83 primary horizontal datum*
HORIZONTAL_COORDINATE_SYSTEM UTM *
COORDINATE_ZONE 10 coordinate system zone number*
HORIZONTAL_UNITS METERS coordinate system units*
HORIZONTAL_RESOLUTION 1.00 pixel horiz. ground sample distance*
SECONDARY_HORIZONTAL_DATUM NAD27 secondary horizontal datum*
XY_ORIGIN 725724.000 4362138.000 coord. of upper left pixel pri. datum*
SECONDARY_XY_ORIGIN 725818.906 4361942.539 coord upper left pixel sec datum*
NATION US nation code*
STATE CA state fip code*
NW_QUAD_CORNER_XY 726114.245 4361679.317 XY coords. of pri. NW quad corner*
NE_QUAD_CORNER_XY 731498.686 4361837.791 XY coords. of pri. NE quad corner*
SE_QUAD_CORNER_XY 731705.142 4354900.177 XY coords. of pri. SE quad corner*
SW_QUAD_CORNER_XY 726315.891 4354741.772 XY coords. of pri. SW quad corner*
SECONDARY_NW_QUAD_XY 726120.097 4361470.636 XY coords. - sec. NW quad cor.*
SECONDARY_NE_QUAD_XY 731504.677 4361629.114 XY coords. - sec. NE quad cor.*
SECONDARY_SE_QUAD_XY 731711.129 4354691.632 XY coords. - sec. SE quad cor.*
SECONDARY_SW_QUAD_XY 726321.738 4354533.223 XY coords. - sec. SW quad cor.*
RMSE_XY 3.60 doq horiz. accuracy*
IMAGE_SOURCE "BLACK AND WHITE FILM" b&w, cir, natural color, other*
SOURCE_IMAGE_ID "NAPP 10550 084" source image id*
SOURCE_IMAGE_DATE 1998 08 21 source image date as yyyy mm dd*
SOURCE_IMAGE_ID "NAPP 10550 085" source image id*
SOURCE_IMAGE_DATE 1998 08 21 source image date as yyyy mm dd*
SOURCE_IMAGE_ID "NAPP 10550 083" source image id*
SOURCE_IMAGE_DATE 1998 08 21 source image date as yyyy mm dd*
SOURCE_IMAGE_ID "NAPP 10555 078" source image id*
SOURCE_IMAGE_DATE 1998 08 26 source image date as yyyy mm dd*
SOURCE_DEM_DATE 2000 01 01 source dem date yyyy mm dd*
AGENCY "WESTERN MAPPING CENTER (WMC)" oversight agency*
PRODUCER "SCIENCE APPLICATIONS INTERNATIONAL" producer/contractor*
PRODUCTION_SYSTEM "GIS/MAGIC" production system*
STANDARD_VERSION 1996 12 version of DOQ standard*
METADATA_DATE 2000 12 04 date created or changed, yyyy mm dd*
DATA_FILE_SIZE 48460779 data set size in bytes*
BYTE_COUNT 6283 header byte count* * * * * * * * * * * * * * * * * * * * * * * * * * * * * *
END_USGS_HEADER *
