BEGIN_USGS_DOQ_HEADER *
QUADRANGLE_NAME "ENGLISH MOUNTAIN" 3.45 or 7.5-min. name*
QUADRANT SE quadrant indicator if cell size = 3.75-minutes*
WEST_LONGITUDE -120 33 45.000 signed deg min sec SDDD MM SS.SSS*
EAST_LONGITUDE -120 30 0.000 signed deg min sec SDDD MM SS.SSS*
NORTH_LATITUDE 39 26 15.000 signed deg min sec SDDD MM SS.SSS*
SOUTH_LATITUDE 39 22 30.000 signed deg min sec SDDD MM SS.SSS*
PRODUCTION_DATE 2000 11 2 yyyy mm dd*
RASTER_ORDER LEFT_RIGHT/TOP_BOTTOM video display order*
BAND_ORGANIZATION "SINGLE FILE" single file or BSQ, or BIL or BIP*
BAND_CONTENT BLACK&WHITE black&white or red green blue*
BITS_PER_PIXEL 8 radiometric resolution*
SAMPLES_AND_LINES 6264 7702 number of columns and rows*
HORIZONTAL_DATUM NAD83 primary horizontal datum*
HORIZONTAL_COORDINATE_SYSTEM UTM *
COORDINATE_ZONE 10 coordinate system zone number*
HORIZONTAL_UNITS METERS coordinate system units*
HORIZONTAL_RESOLUTION 1.00 pixel horiz. ground sample distance*
SECONDARY_HORIZONTAL_DATUM NAD27 secondary horizontal datum*
XY_ORIGIN 709383.000 4368612.000 coord. of upper left pixel pri. datum*
SECONDARY_XY_ORIGIN 709478.050 4368416.544 coord upper left pixel sec datum*
NATION US nation code*
STATE CA state fip code*
NW_QUAD_CORNER_XY 709773.765 4368163.713 XY coords. of pri. NW quad corner*
NE_QUAD_CORNER_XY 715153.236 4368311.046 XY coords. of pri. NE quad corner*
SE_QUAD_CORNER_XY 715345.521 4361373.574 XY coords. of pri. SE quad corner*
SW_QUAD_CORNER_XY 709961.234 4361226.305 XY coords. of pri. SW quad corner*
SECONDARY_NW_QUAD_XY 709779.202 4367954.889 XY coords. - sec. NW quad cor.*
SECONDARY_NE_QUAD_XY 715158.813 4368102.226 XY coords. - sec. NE quad cor.*
SECONDARY_SE_QUAD_XY 715351.093 4361164.885 XY coords. - sec. SE quad cor.*
SECONDARY_SW_QUAD_XY 709966.667 4361017.612 XY coords. - sec. SW quad cor.*
RMSE_XY 2.50 doq horiz. accuracy*
IMAGE_SOURCE "BLACK AND WHITE FILM" b&w, cir, natural color, other*
SOURCE_IMAGE_ID "NAPP 10557 138" source image id*
SOURCE_IMAGE_DATE 1998 08 29 source image date as yyyy mm dd*
SOURCE_IMAGE_ID "NAPP 10557 154" source image id*
SOURCE_IMAGE_DATE 1998 08 29 source image date as yyyy mm dd*
SOURCE_IMAGE_ID "NAPP 10557 139" source image id*
SOURCE_IMAGE_DATE 1998 08 29 source image date as yyyy mm dd*
SOURCE_IMAGE_ID "NAPP 10557 137" source image id*
SOURCE_IMAGE_DATE 1998 08 29 source image date as yyyy mm dd*
SOURCE_DEM_DATE 2000 01 01 source dem date yyyy mm dd*
AGENCY "WESTERN MAPPING CENTER (WMC)" oversight agency*
PRODUCER "SCIENCE APPLICATIONS INTERNATIONAL" producer/contractor*
PRODUCTION_SYSTEM "GIS/MAGIC" production system*
STANDARD_VERSION 1996 12 version of DOQ standard*
METADATA_DATE 2000 12 01 date created or changed, yyyy mm dd*
DATA_FILE_SIZE 48251592 data set size in bytes*
BYTE_COUNT 6264 header byte count* * * * * * * * * * * * * * * * * * * * * * * * * * * * * *
END_USGS_HEADER *
