BEGIN_USGS_DOQ_HEADER *
QUADRANGLE_NAME "GOLD LAKE" 3.45 or 7.5-min. name*
QUADRANT NW quadrant indicator if cell size = 3.75-minutes*
WEST_LONGITUDE -120 45 0.000 signed deg min sec SDDD MM SS.SSS*
EAST_LONGITUDE -120 41 15.000 signed deg min sec SDDD MM SS.SSS*
NORTH_LATITUDE 39 45 0.000 signed deg min sec SDDD MM SS.SSS*
SOUTH_LATITUDE 39 41 15.000 signed deg min sec SDDD MM SS.SSS*
PRODUCTION_DATE 2000 10 5 yyyy mm dd*
RASTER_ORDER LEFT_RIGHT/TOP_BOTTOM video display order*
BAND_ORGANIZATION "SINGLE FILE" single file or BSQ, or BIL or BIP*
BAND_CONTENT BLACK&WHITE black&white or red green blue*
BITS_PER_PIXEL 8 radiometric resolution*
SAMPLES_AND_LINES 6228 7691 number of columns and rows*
HORIZONTAL_DATUM NAD83 primary horizontal datum*
HORIZONTAL_COORDINATE_SYSTEM UTM *
COORDINATE_ZONE 10 coordinate system zone number*
HORIZONTAL_UNITS METERS coordinate system units*
HORIZONTAL_RESOLUTION 1.00 pixel horiz. ground sample distance*
SECONDARY_HORIZONTAL_DATUM NAD27 secondary horizontal datum*
XY_ORIGIN 692375.000 4402868.000 coord. of upper left pixel pri. datum*
SECONDARY_XY_ORIGIN 692470.185 4402672.336 coord upper left pixel sec datum*
NATION US nation code*
STATE CA state fip code*
NW_QUAD_CORNER_XY 692767.031 4402431.206 XY coords. of pri. NW quad corner*
NE_QUAD_CORNER_XY 698122.199 4402567.619 XY coords. of pri. NE quad corner*
SE_QUAD_CORNER_XY 698301.226 4395630.020 XY coords. of pri. SE quad corner*
SW_QUAD_CORNER_XY 692941.213 4395493.664 XY coords. of pri. SW quad corner*
SECONDARY_NW_QUAD_XY 692772.065 4402221.730 XY coords. - sec. NW quad cor.*
SECONDARY_NE_QUAD_XY 698127.373 4402358.146 XY coords. - sec. NE quad cor.*
SECONDARY_SE_QUAD_XY 698306.397 4395420.674 XY coords. - sec. SE quad cor.*
SECONDARY_SW_QUAD_XY 692946.244 4395284.314 XY coords. - sec. SW quad cor.*
RMSE_XY 3.00 doq horiz. accuracy*
IMAGE_SOURCE "BLACK AND WHITE FILM" b&w, cir, natural color, other*
SOURCE_IMAGE_ID "NAPP 10501 102" source image id*
SOURCE_IMAGE_DATE 1998 08 13 source image date as yyyy mm dd*
SOURCE_IMAGE_ID "NAPP 10506 086" source image id*
SOURCE_IMAGE_DATE 1998 08 24 source image date as yyyy mm dd*
SOURCE_IMAGE_ID "NAPP 10501 101" source image id*
SOURCE_IMAGE_DATE 1998 08 13 source image date as yyyy mm dd*
SOURCE_IMAGE_ID "NAPP 10501 103" source image id*
SOURCE_IMAGE_DATE 1998 08 13 source image date as yyyy mm dd*
SOURCE_IMAGE_ID "NAPP 10507 133" source image id*
SOURCE_IMAGE_DATE 1998 08 25 source image date as yyyy mm dd*
SOURCE_IMAGE_ID "NAPP 10507 132" source image id*
SOURCE_IMAGE_DATE 1998 08 25 source image date as yyyy mm dd*
SOURCE_DEM_DATE 2000 01 01 source dem date yyyy mm dd*
AGENCY "WESTERN MAPPING CENTER (WMC)" oversight agency*
PRODUCER "SCIENCE APPLICATIONS INTERNATIONAL" producer/contractor*
PRODUCTION_SYSTEM "GIS/MAGIC" production system*
STANDARD_VERSION 1996 12 version of DOQ standard*
METADATA_DATE 2000 12 01 date created or changed, yyyy mm dd*
DATA_FILE_SIZE 47905776 data set size in bytes*
BYTE_COUNT 6228 header byte count* * * * * * * * * * * * * * * * * * * * * * * * *
END_USGS_HEADER *
