BEGIN_USGS_DOQ_HEADER *
QUADRANGLE_NAME "JUNIPER SPRINGS" 3.45 or 7.5-min. name*
QUADRANT SE quadrant indicator if cell size = 3.75-minutes*
WEST_LONGITUDE -119 48 45.000 signed deg min sec SDDD MM SS.SSS*
EAST_LONGITUDE -119 45 0.000 signed deg min sec SDDD MM SS.SSS*
NORTH_LATITUDE 41 3 45.000 signed deg min sec SDDD MM SS.SSS*
SOUTH_LATITUDE 41 0 0.000 signed deg min sec SDDD MM SS.SSS*
PRODUCTION_DATE 1998 5 11 yyyy mm dd*
RASTER_ORDER LEFT_RIGHT/TOP_BOTTOM video display order*
BAND_ORGANIZATION "SINGLE FILE" single file or BSQ, or BIL or BIP*
BAND_CONTENT BLACK&WHITE black&white or red green blue*
BITS_PER_PIXEL 8 radiometric resolution*
SAMPLES_AND_LINES 6167 7718 number of columns and rows*
HORIZONTAL_DATUM NAD83 primary horizontal datum*
HORIZONTAL_COORDINATE_SYSTEM UTM *
COORDINATE_ZONE 11 coordinate system zone number*
HORIZONTAL_UNITS METERS coordinate system units*
HORIZONTAL_RESOLUTION 1.00 pixel horiz. ground sample distance*
SECONDARY_HORIZONTAL_DATUM NAD27 secondary horizontal datum*
XY_ORIGIN 263062.000 4549807.000 coord. of upper left pixel pri. datum*
SECONDARY_XY_ORIGIN 263143.114 4549603.675 coord upper left pixel sec datum*
NATION US nation code*
STATE NV state fip code*
NW_QUAD_CORNER_XY 263674.842 4549506.946 XY coords. of pri. NW quad corner*
NE_QUAD_CORNER_XY 268927.077 4549339.339 XY coords. of pri. NE quad corner*
SE_QUAD_CORNER_XY 268708.264 4542400.092 XY coords. of pri. SE quad corner*
SW_QUAD_CORNER_XY 263451.046 4542567.647 XY coords. of pri. SW quad corner*
SECONDARY_NW_QUAD_XY 263668.470 4549295.040 XY coords. - sec. NW quad cor.*
SECONDARY_NE_QUAD_XY 268920.847 4549127.428 XY coords. - sec. NE quad cor.*
SECONDARY_SE_QUAD_XY 268702.037 4542188.290 XY coords. - sec. SE quad cor.*
SECONDARY_SW_QUAD_XY 263444.678 4542355.850 XY coords. - sec. SW quad cor.*
RMSE_XY 1.50 doq horiz. accuracy*
IMAGE_SOURCE "BLACK AND WHITE FILM" b&w, cir, natural color, other*
SOURCE_IMAGE_ID "NAPP 7377 161" source image id*
SOURCE_IMAGE_DATE 1994 06 18 source image date as yyyy mm dd*
IMAGE_SOURCE "BLACK AND WHITE FILM" b&w, cir, natural color, other*
SOURCE_IMAGE_ID "NAPP 7377 118" source image id*
SOURCE_IMAGE_DATE 1994 06 18 source image date as yyyy mm dd*
SOURCE_DEM_DATE 1997 01 01 source dem date yyyy mm dd*
AGENCY "WESTERN MAPPING CENTER (WMC)" oversight agency*
PRODUCER "SCIENCE APPLICATIONS INTERNATIONAL" producer/contractor*
PRODUCTION_SYSTEM "GIS/MAGIC" production system*
STANDARD_VERSION 1996 12 version of DOQ standard*
METADATA_DATE 1998 05 11 date created or changed, yyyy mm dd*
DATA_FILE_SIZE 47603073 data set size in bytes*
BYTE_COUNT 6167 header byte count* * * * * * * * * * * * * * * * * * * * * * * * * * * * * * * *
END_USGS_HEADER *
