BEGIN_USGS_DOQ_HEADER *
QUADRANGLE_NAME "BOULDER LAKE" 3.45 or 7.5-min. name*
QUADRANT NW quadrant indicator if cell size = 3.75-minutes*
WEST_LONGITUDE -119 52 30.000 signed deg min sec SDDD MM SS.SSS*
EAST_LONGITUDE -119 48 45.000 signed deg min sec SDDD MM SS.SSS*
NORTH_LATITUDE 41 30 0.000 signed deg min sec SDDD MM SS.SSS*
SOUTH_LATITUDE 41 26 15.000 signed deg min sec SDDD MM SS.SSS*
PRODUCTION_DATE 1998 5 11 yyyy mm dd*
RASTER_ORDER LEFT_RIGHT/TOP_BOTTOM video display order*
BAND_ORGANIZATION "SINGLE FILE" single file or BSQ, or BIL or BIP*
BAND_CONTENT BLACK&WHITE black&white or red green blue*
BITS_PER_PIXEL 8 radiometric resolution*
SAMPLES_AND_LINES 6139 7723 number of columns and rows*
HORIZONTAL_DATUM NAD83 primary horizontal datum*
HORIZONTAL_COORDINATE_SYSTEM UTM *
COORDINATE_ZONE 11 coordinate system zone number*
HORIZONTAL_UNITS METERS coordinate system units*
HORIZONTAL_RESOLUTION 1.00 pixel horiz. ground sample distance*
SECONDARY_HORIZONTAL_DATUM NAD27 secondary horizontal datum*
XY_ORIGIN 259412.000 4598556.000 coord. of upper left pixel pri. datum*
SECONDARY_XY_ORIGIN 259493.122 4598352.110 coord upper left pixel sec datum*
NATION US nation code*
STATE NV state fip code*
NW_QUAD_CORNER_XY 260032.085 4598255.369 XY coords. of pri. NW quad corner*
NE_QUAD_CORNER_XY 265249.301 4598083.645 XY coords. of pri. NE quad corner*
SE_QUAD_CORNER_XY 265023.535 4591143.944 XY coords. of pri. SE quad corner*
SW_QUAD_CORNER_XY 259801.292 4591315.622 XY coords. of pri. SW quad corner*
SECONDARY_NW_QUAD_XY 260025.547 4598042.727 XY coords. - sec. NW quad cor.*
SECONDARY_NE_QUAD_XY 265242.905 4597870.998 XY coords. - sec. NE quad cor.*
SECONDARY_SE_QUAD_XY 265017.142 4590931.401 XY coords. - sec. SE quad cor.*
SECONDARY_SW_QUAD_XY 259794.757 4591103.083 XY coords. - sec. SW quad cor.*
RMSE_XY 1.30 doq horiz. accuracy*
IMAGE_SOURCE "BLACK AND WHITE FILM" b&w, cir, natural color, other*
SOURCE_IMAGE_ID "NAPP 7377 210" source image id*
SOURCE_IMAGE_DATE 1994 06 18 source image date as yyyy mm dd*
SOURCE_DEM_DATE 1997 01 01 source dem date yyyy mm dd*
AGENCY "WESTERN MAPPING CENTER (WMC)" oversight agency*
PRODUCER "SCIENCE APPLICATIONS INTERNATIONAL" producer/contractor*
PRODUCTION_SYSTEM "GIS/MAGIC" production system*
STANDARD_VERSION 1996 12 version of DOQ standard*
METADATA_DATE 1998 05 11 date created or changed, yyyy mm dd*
DATA_FILE_SIZE 47417636 data set size in bytes*
BYTE_COUNT 6139 header byte count* * * * * * * * * * * * * * * * * * * * * * * * * * * * * * * * * *
END_USGS_HEADER *
