BEGIN_USGS_DOQ_HEADER *
QUADRANGLE_NAME "VYA" *
QUADRANT SW *
WEST_LONGITUDE -119 52 30.000 *
EAST_LONGITUDE -119 48 45.000 *
NORTH_LATITUDE 41 33 45.000 *
SOUTH_LATITUDE 41 30 0.000 *
PRODUCTION_DATE 1999 10 26 *
RASTER_ORDER LEFT_RIGHT/TOP_BOTTOM *
BAND_ORGANIZATION "SINGLE FILE" *
BAND_CONTENT BLACK&WHITE *
BITS_PER_PIXEL 8 *
SAMPLES_AND_LINES 6130 7720 *
HORIZONTAL_DATUM NAD83 *
HORIZONTAL_COORDINATE_SYSTEM UTM *
COORDINATE_ZONE 11 *
HORIZONTAL_UNITS METERS *
HORIZONTAL_RESOLUTION 1.000000 *
SECONDARY_HORIZONTAL_DATUM NAD27 *
XY_ORIGIN 259645.500 4605494.500 *
SECONDARY_XY_ORIGIN 259726.658 4605290.549 *
NATION US *
STATE NV *
NW_QUAD_CORNER_XY 260263.164 4605195.173 *
NE_QUAD_CORNER_XY 265475.347 4605023.404 *
SE_QUAD_CORNER_XY 265249.301 4598083.645 *
SW_QUAD_CORNER_XY 260032.085 4598255.370 *
SECONDARY_NW_QUAD_XY 260256.623 4604982.430 *
SECONDARY_NE_QUAD_XY 265468.948 4604810.655 *
SECONDARY_SE_QUAD_XY 265242.905 4597870.999 *
SECONDARY_SW_QUAD_XY 260025.547 4598042.728 *
RMSE_XY 1.52 *
IMAGE_SOURCE "BLACK & WHITE FILM" *
SOURCE_IMAGE_ID "NAPP 7377 208" *
SOURCE_IMAGE_DATE 1994 06 18 *
SOURCE_DEM_DATE 1966 00 00 *
AGENCY "WESTERN MAPPING CENTER (WMC)" *
PRODUCER "NIES MAPPING GROUP, INC." *
PRODUCTION_SYSTEM "INTERGRAPH MODEL_SETUP, BASE_RECTIFIER" *
STANDARD_VERSION 1996 12 *
METADATA_DATE 1999 10 26 *
DATA_FILE_SIZE 47329730 *
BYTE_COUNT 6130 * * * * * * * * * * * * * * * * * * * * * * * * * * * * * * * * * *
END_USGS_HEADER *
