BEGIN_USGS_DOQ_HEADER *
QUADRANGLE_NAME "CARTER RESERVOIR" *
QUADRANT SE *
WEST_LONGITUDE -119 56 15.000 *
EAST_LONGITUDE -119 52 30.000 *
NORTH_LATITUDE 41 41 15.000 *
SOUTH_LATITUDE 41 37 30.000 *
PRODUCTION_DATE 1999 11 25 *
RASTER_ORDER LEFT_RIGHT/TOP_BOTTOM *
BAND_ORGANIZATION "SINGLE FILE" *
BAND_CONTENT BLACK&WHITE *
BITS_PER_PIXEL 8 *
SAMPLES_AND_LINES 6126 7723 *
HORIZONTAL_DATUM NAD83 *
HORIZONTAL_COORDINATE_SYSTEM UTM *
COORDINATE_ZONE 11 *
HORIZONTAL_UNITS METERS *
HORIZONTAL_RESOLUTION 1.000000 *
SECONDARY_HORIZONTAL_DATUM NAD27 *
XY_ORIGIN 254900.500 4619549.500 *
SECONDARY_XY_ORIGIN 254981.769 4619345.384 *
NATION US *
STATE NV *
NW_QUAD_CORNER_XY 255524.051 4619250.595 *
NE_QUAD_CORNER_XY 260726.182 4619074.951 *
SE_QUAD_CORNER_XY 260494.530 4612135.034 *
SW_QUAD_CORNER_XY 255287.353 4612310.633 *
SECONDARY_NW_QUAD_XY 255517.360 4619037.654 *
SECONDARY_NE_QUAD_XY 260719.634 4618862.005 *
SECONDARY_SE_QUAD_XY 260487.985 4611922.189 *
SECONDARY_SW_QUAD_XY 255280.666 4612097.792 *
RMSE_XY 6.48 *
IMAGE_SOURCE "BLACK & WHITE FILM" *
SOURCE_IMAGE_ID "NAPP 6202 70" *
SOURCE_IMAGE_DATE 1993 07 08 *
SOURCE_DEM_DATE 1978 08 01 *
AGENCY "WESTERN MAPPING CENTER (WMC)" *
PRODUCER "NIES MAPPING GROUP, INC." *
PRODUCTION_SYSTEM "INTERGRAPH MODEL_SETUP, BASE_RECTIFIER" *
STANDARD_VERSION 1996 12 *
METADATA_DATE 1999 11 25 *
DATA_FILE_SIZE 47317224 *
BYTE_COUNT 6126 * * * * * * * * * * * * * * * * * * * * * * * * * * * * * * * * * *
END_USGS_HEADER *
