BEGIN_USGS_DOQ_HEADER *
QUADRANGLE_NAME "CROOKS MEADOW" *
QUADRANT SW *
WEST_LONGITUDE -120 0 0.000 *
EAST_LONGITUDE -119 56 15.000 *
NORTH_LATITUDE 41 48 45.000 *
SOUTH_LATITUDE 41 45 0.000 *
PRODUCTION_DATE 1999 10 27 *
RASTER_ORDER LEFT_RIGHT/TOP_BOTTOM *
BAND_ORGANIZATION "SINGLE FILE" *
BAND_CONTENT BLACK&WHITE *
BITS_PER_PIXEL 8 *
SAMPLES_AND_LINES 6122 7728 *
HORIZONTAL_DATUM NAD83 *
HORIZONTAL_COORDINATE_SYSTEM UTM *
COORDINATE_ZONE 11 *
HORIZONTAL_UNITS METERS *
HORIZONTAL_RESOLUTION 1.000000 *
SECONDARY_HORIZONTAL_DATUM NAD27 *
XY_ORIGIN 250176.500 4633609.500 *
SECONDARY_XY_ORIGIN 250257.811 4633405.279 *
NATION US *
STATE NV *
STATE CA *
NW_QUAD_CORNER_XY 250806.271 4633310.206 *
NE_QUAD_CORNER_XY 255998.323 4633130.687 *
SE_QUAD_CORNER_XY 255761.041 4626190.613 *
SW_QUAD_CORNER_XY 250563.929 4626370.087 *
SECONDARY_NW_QUAD_XY 250799.431 4633097.071 *
SECONDARY_NE_QUAD_XY 255991.626 4632917.548 *
SECONDARY_SE_QUAD_XY 255754.347 4625977.572 *
SECONDARY_SW_QUAD_XY 250557.093 4626157.051 *
RMSE_XY 4.39 *
IMAGE_SOURCE "BLACK & WHITE FILM" *
SOURCE_IMAGE_ID "NAPP 6202 89" *
SOURCE_IMAGE_DATE 1993 07 08 *
SOURCE_DEM_DATE 1979 08 01 *
AGENCY "WESTERN MAPPING CENTER (WMC)" *
PRODUCER "NIES MAPPING GROUP, INC." *
PRODUCTION_SYSTEM "INTERGRAPH MODEL_SETUP, BASE_RECTIFIER" *
STANDARD_VERSION 1996 12 *
METADATA_DATE 1999 10 27 *
DATA_FILE_SIZE 47316938 *
BYTE_COUNT 6122 * * * * * * * * * * * * * * * * * * * * * * * * * * * * * * * * *
END_USGS_HEADER *
