BEGIN_USGS_DOQ_HEADER *
QUADRANGLE_NAME "LITTLE COLEMAN CANYON" *
QUADRANT SE *
WEST_LONGITUDE -119 48 45.000 *
EAST_LONGITUDE -119 45 0.000 *
NORTH_LATITUDE 41 56 15.000 *
SOUTH_LATITUDE 41 52 30.000 *
PRODUCTION_DATE 1999 10 26 *
RASTER_ORDER LEFT_RIGHT/TOP_BOTTOM *
BAND_ORGANIZATION "SINGLE FILE" *
BAND_CONTENT BLACK&WHITE *
BITS_PER_PIXEL 8 *
SAMPLES_AND_LINES 6096 7717 *
HORIZONTAL_DATUM NAD83 *
HORIZONTAL_COORDINATE_SYSTEM UTM *
COORDINATE_ZONE 11 *
HORIZONTAL_UNITS METERS *
HORIZONTAL_RESOLUTION 1.000000 *
SECONDARY_HORIZONTAL_DATUM NAD27 *
XY_ORIGIN 266223.500 4646962.500 *
SECONDARY_XY_ORIGIN 266304.722 4646758.292 *
NATION US *
STATE NV *
NW_QUAD_CORNER_XY 266837.499 4646663.161 *
NE_QUAD_CORNER_XY 272019.323 4646494.921 *
SE_QUAD_CORNER_XY 271796.670 4639554.858 *
SW_QUAD_CORNER_XY 266609.776 4639723.057 *
SECONDARY_NW_QUAD_XY 266831.081 4646449.816 *
SECONDARY_NE_QUAD_XY 272013.047 4646281.572 *
SECONDARY_SE_QUAD_XY 271790.397 4639341.606 *
SECONDARY_SW_QUAD_XY 266603.361 4639509.810 *
RMSE_XY 1.88 *
IMAGE_SOURCE "BLACK & WHITE FILM" *
SOURCE_IMAGE_ID "NAPP 7377 189" *
SOURCE_IMAGE_DATE 1994 06 18 *
SOURCE_DEM_DATE 1966 00 00 *
AGENCY "WESTERN MAPPING CENTER (WMC)" *
PRODUCER "NIES MAPPING GROUP, INC." *
PRODUCTION_SYSTEM "INTERGRAPH MODEL_SETUP, BASE_RECTIFIER" *
STANDARD_VERSION 1996 12 *
METADATA_DATE 1999 10 26 *
DATA_FILE_SIZE 47048928 *
BYTE_COUNT 6096 * * * * * * * * * * * * * * * * * * * * * * * * * * * * * * * * * *
END_USGS_HEADER *
